View In:
ArcGIS JavaScript
ArcGIS Online Map Viewer
ArcGIS Earth
ArcMap
View Footprint In:
ArcGIS Online Map Viewer
Service Description: BADEA/O783_Benin_March2021_WV02
Name: BADEA/O783_Benin_March2021_WV02
Description:
Single Fused Map Cache: false
Extent:
XMin: 1.7213895000000006
YMin: 6.649226999999493
XMax: 1.7325989999997575
YMax: 6.656859000000002
Spatial Reference: 4326
(4326)
Initial Extent:
XMin: 1.7213895000000006
YMin: 6.649226999999493
XMax: 1.7325989999997575
YMax: 6.656859000000002
Spatial Reference: 4326
(4326)
Full Extent:
XMin: 1.7213895000000006
YMin: 6.649226999999493
XMax: 1.7325989999997575
YMax: 6.656859000000002
Spatial Reference: 4326
(4326)
Pixel Size X: 4.499999999902431E-6
Pixel Size Y: 4.500000000300123E-6
Band Count: 3
Pixel Type: U8
RasterFunction Infos: {"rasterFunctionInfos": [{
"name": "None",
"description": "",
"help": ""
}]}
Mensuration Capabilities: Basic
Has Histograms: true
Has Colormap: false
Has Multi Dimensions : false
Rendering Rule:
Min Scale: 0
Max Scale: 0
Copyright Text:
Service Data Type: esriImageServiceDataTypeRGB
Min Values: 1, 1, 1
Max Values: 255, 255, 255
Mean Values: 117.33905090775168, 111.62173914588092, 105.50952609334608
Standard Deviation Values: 21.413252696316533, 21.175856469694367, 21.60795806234313
Object ID Field:
Fields:
None
Default Mosaic Method: Center
Allowed Mosaic Methods:
SortField:
SortValue: null
Mosaic Operator: First
Default Compression Quality: 75
Default Resampling Method: Bilinear
Max Record Count: null
Max Image Height: 4100
Max Image Width: 15000
Max Download Image Count: null
Max Mosaic Image Count: null
Allow Raster Function: true
Allow Copy: true
Allow Analysis: true
Allow Compute TiePoints: false
Supports Statistics: false
Supports Advanced Queries: false
Use StandardizedQueries: true
Raster Type Infos:
Name: Raster Dataset
Description: Supports all ArcGIS Raster Datasets
Help:
Has Raster Attribute Table: false
Edit Fields Info: null
Ownership Based AccessControl For Rasters: null
Child Resources:
Info
Histograms
Statistics
Key Properties
Legend
Raster Function Infos
Supported Operations:
Export Image
Identify
Measure
Compute Histograms
Compute Statistics Histograms
Get Samples
Compute Class Statistics
Query Boundary
Compute Pixel Location
Compute Angles
Validate
Project