View In:
ArcGIS JavaScript
ArcGIS Online Map Viewer
ArcGIS Earth
ArcMap
View Footprint In:
ArcGIS Online Map Viewer
Service Description: BADEA/O783_Benin_7February2022_WV2
Name: BADEA/O783_Benin_7February2022_WV2
Description:
Single Fused Map Cache: false
Extent:
XMin: 189659.37643259356
YMin: 741199.9629512285
XMax: 194246.40714621553
YMax: 743481.9177441108
Spatial Reference: 102100
(3857)
LatestVCSWkid(0)
Initial Extent:
XMin: 189659.37643259356
YMin: 741199.9629512285
XMax: 194246.40714621553
YMax: 743481.9177441108
Spatial Reference: 102100
(3857)
LatestVCSWkid(0)
Full Extent:
XMin: 189659.37643259356
YMin: 741199.9629512285
XMax: 194246.40714621553
YMax: 743481.9177441108
Spatial Reference: 102100
(3857)
LatestVCSWkid(0)
Pixel Size X: 0.5026332142912517
Pixel Size Y: 0.502633214291259
Band Count: 3
Pixel Type: U8
RasterFunction Infos: {"rasterFunctionInfos": [{
"name": "None",
"description": "",
"help": ""
}]}
Mensuration Capabilities: Basic
Has Histograms: true
Has Colormap: false
Has Multi Dimensions : false
Rendering Rule:
Min Scale: 0
Max Scale: 0
Copyright Text:
Service Data Type: esriImageServiceDataTypeRGB
Min Values: 0, 0, 0
Max Values: 255, 249, 230
Mean Values: 83.177681209994, 80.635391740295, 70.070728523112
Standard Deviation Values: 30.345891755064, 29.670737787312, 30.281703731031
Object ID Field:
Fields:
None
Default Mosaic Method: Center
Allowed Mosaic Methods:
SortField:
SortValue: null
Mosaic Operator: First
Default Compression Quality: 75
Default Resampling Method: Bilinear
Max Record Count: null
Max Image Height: 4100
Max Image Width: 15000
Max Download Image Count: null
Max Mosaic Image Count: null
Allow Raster Function: true
Allow Copy: true
Allow Analysis: true
Allow Compute TiePoints: false
Supports Statistics: false
Supports Advanced Queries: false
Use StandardizedQueries: true
Raster Type Infos:
Name: Raster Dataset
Description: Supports all ArcGIS Raster Datasets
Help:
Has Raster Attribute Table: false
Edit Fields Info: null
Ownership Based AccessControl For Rasters: null
Child Resources:
Info
Histograms
Statistics
Key Properties
Legend
Raster Function Infos
Supported Operations:
Export Image
Identify
Measure
Compute Histograms
Compute Statistics Histograms
Get Samples
Compute Class Statistics
Query Boundary
Compute Pixel Location
Compute Angles
Validate
Project