View In:
ArcGIS JavaScript
ArcGIS Online Map Viewer
ArcGIS Earth
Service Description: BADEA/O768_Guinea_Mondiana_Feb2022PL
Name: BADEA/O768_Guinea_Mondiana_Feb2022PL
Description:
Single Fused Map Cache: false
Extent:
XMin: -997961.8411463953
YMin: 1174072.7543034996
XMax: -939258.2034315333
YMax: 1213208.512780074
Spatial Reference: 102100
(3857)
LatestVCSWkid(0)
Initial Extent:
XMin: -997961.8411463953
YMin: 1174072.7543034996
XMax: -939258.2034315333
YMax: 1213208.512780074
Spatial Reference: 102100
(3857)
LatestVCSWkid(0)
Full Extent:
XMin: -997961.8411463953
YMin: 1174072.7543034996
XMax: -939258.2034315333
YMax: 1213208.512780074
Spatial Reference: 102100
(3857)
LatestVCSWkid(0)
Pixel Size X: 4.777314267159994
Pixel Size Y: 4.777314267159966
Band Count: 5
Pixel Type: U16
RasterFunction Infos: {"rasterFunctionInfos": [{
"name": "None",
"description": "",
"help": ""
}]}
Mensuration Capabilities: Basic
Inspection Capabilities:
Has Histograms: true
Has Colormap: false
Has Multi Dimensions : false
Rendering Rule:
Min Scale: 0
Max Scale: 0
Resampling: false
Copyright Text:
Service Data Type: esriImageServiceDataTypeGeneric
Min Values: 121, 343, 259, 280, 65535
Max Values: 7085, 5177, 7312, 7903, 65535
Mean Values: 433.6125252644221, 763.659322420756, 899.014765193065, 2282.883019218842, 65535
Standard Deviation Values: 74.12059274829906, 105.13759761797873, 198.59695381043494, 292.7664443972987, 0
Object ID Field:
Fields:
None
Default Mosaic Method: Center
Allowed Mosaic Methods:
SortField:
SortValue: null
Mosaic Operator: First
Default Compression Quality: 75
Default Resampling Method: Bilinear
Max Record Count: null
Max Image Height: 4100
Max Image Width: 15000
Max Download Image Count: null
Max Mosaic Image Count: null
Allow Raster Function: true
Allow Copy: true
Allow Analysis: true
Allow Compute TiePoints: false
Supports Statistics: false
Supports Advanced Queries: false
Use StandardizedQueries: true
Raster Type Infos:
Name: Raster Dataset
Description: Supports all ArcGIS Raster Datasets
Help:
Has Raster Attribute Table: false
Edit Fields Info: null
Ownership Based AccessControl For Rasters: null
Child Resources:
Info
Histograms
Statistics
Key Properties
Legend
Raster Function Infos
Supported Operations:
Export Image
Identify
Measure
Compute Histograms
Compute Statistics Histograms
Get Samples
Compute Class Statistics
Query Boundary
Compute Pixel Location
Compute Angles
Validate
Project