View In:
ArcGIS JavaScript
ArcGIS Online Map Viewer
ArcGIS Earth
Service Description: BADEA/O759_O781_Ethiopia_Dec2020PL
Name: BADEA/O759_O781_Ethiopia_Dec2020PL
Description:
Single Fused Map Cache: false
Extent:
XMin: 4461476.466335777
YMin: 939258.2034440506
XMax: 4578883.741765499
YMax: 1017529.7203971986
Spatial Reference: 102100
(3857)
LatestVCSWkid(0)
Initial Extent:
XMin: 4461476.466335777
YMin: 939258.2034440506
XMax: 4578883.741765499
YMax: 1017529.7203971986
Spatial Reference: 102100
(3857)
LatestVCSWkid(0)
Full Extent:
XMin: 4461476.466335777
YMin: 939258.2034440506
XMax: 4578883.741765499
YMax: 1017529.7203971986
Spatial Reference: 102100
(3857)
LatestVCSWkid(0)
Pixel Size X: 4.777314267159909
Pixel Size Y: 4.777314267159909
Band Count: 5
Pixel Type: U16
RasterFunction Infos: {"rasterFunctionInfos": [{
"name": "None",
"description": "",
"help": ""
}]}
Mensuration Capabilities: Basic
Inspection Capabilities:
Has Histograms: true
Has Colormap: false
Has Multi Dimensions : false
Rendering Rule:
Min Scale: 0
Max Scale: 0
Resampling: false
Copyright Text:
Service Data Type: esriImageServiceDataTypeGeneric
Min Values: 0, 0, 0, 200, 65535
Max Values: 10000, 9202, 10000, 10000, 65535
Mean Values: 456.50928553938866, 790.4103475784262, 930.1854699254036, 2395.944321418802, 65535
Standard Deviation Values: 160.64843090243193, 190.21745441932114, 300.60855731486197, 448.04151057067634, 0
Object ID Field:
Fields:
None
Default Mosaic Method: Center
Allowed Mosaic Methods:
SortField:
SortValue: null
Mosaic Operator: First
Default Compression Quality: 75
Default Resampling Method: Bilinear
Max Record Count: null
Max Image Height: 4100
Max Image Width: 15000
Max Download Image Count: null
Max Mosaic Image Count: null
Allow Raster Function: true
Allow Copy: true
Allow Analysis: true
Allow Compute TiePoints: false
Supports Statistics: false
Supports Advanced Queries: false
Use StandardizedQueries: true
Raster Type Infos:
Name: Raster Dataset
Description: Supports all ArcGIS Raster Datasets
Help:
Has Raster Attribute Table: false
Edit Fields Info: null
Ownership Based AccessControl For Rasters: null
Child Resources:
Info
Histograms
Statistics
Key Properties
Legend
Raster Function Infos
Supported Operations:
Export Image
Identify
Measure
Compute Histograms
Compute Statistics Histograms
Get Samples
Compute Class Statistics
Query Boundary
Compute Pixel Location
Compute Angles
Validate
Project