View In:
ArcGIS JavaScript
ArcGIS Online Map Viewer
ArcGIS Earth
Service Description: BADEA/O752_CAR_July2022_PL_part2_tif
Name: BADEA/O752_CAR_July2022_PL_part2_tif
Description:
Single Fused Map Cache: false
Extent:
XMin: 2113330.957741294
YMin: 587036.3771548807
XMax: 2132898.8369795815
YMax: 626172.1356314556
Spatial Reference: 102100
(3857)
LatestVCSWkid(0)
Initial Extent:
XMin: 2113330.957741294
YMin: 587036.3771548807
XMax: 2132898.8369795815
YMax: 626172.1356314556
Spatial Reference: 102100
(3857)
LatestVCSWkid(0)
Full Extent:
XMin: 2113330.957741294
YMin: 587036.3771548807
XMax: 2132898.8369795815
YMax: 626172.1356314556
Spatial Reference: 102100
(3857)
LatestVCSWkid(0)
Pixel Size X: 4.777314267160023
Pixel Size Y: 4.777314267160023
Band Count: 4
Pixel Type: U8
RasterFunction Infos: {"rasterFunctionInfos": [{
"name": "None",
"description": "",
"help": ""
}]}
Mensuration Capabilities: Basic
Inspection Capabilities:
Has Histograms: true
Has Colormap: false
Has Multi Dimensions : false
Rendering Rule:
Min Scale: 0
Max Scale: 0
Copyright Text:
Service Data Type: esriImageServiceDataTypeGeneric
Min Values: 0, 0, 0, 255
Max Values: 255, 255, 255, 255
Mean Values: 34.202208608382, 48.311332494032, 14.344538897276, 255
Standard Deviation Values: 13.711113816781, 14.839581982392, 12.051791624563, 0
Object ID Field:
Fields:
None
Default Mosaic Method: Center
Allowed Mosaic Methods:
SortField:
SortValue: null
Mosaic Operator: First
Default Compression Quality: 75
Default Resampling Method: Bilinear
Max Record Count: null
Max Image Height: 4100
Max Image Width: 15000
Max Download Image Count: null
Max Mosaic Image Count: null
Allow Raster Function: true
Allow Copy: true
Allow Analysis: true
Allow Compute TiePoints: false
Supports Statistics: false
Supports Advanced Queries: false
Use StandardizedQueries: true
Raster Type Infos:
Name: Raster Dataset
Description: Supports all ArcGIS Raster Datasets
Help:
Has Raster Attribute Table: false
Edit Fields Info: null
Ownership Based AccessControl For Rasters: null
Child Resources:
Info
Histograms
Statistics
Key Properties
Legend
Raster Function Infos
Supported Operations:
Export Image
Identify
Measure
Compute Histograms
Compute Statistics Histograms
Get Samples
Compute Class Statistics
Query Boundary
Compute Pixel Location
Compute Angles
Validate
Project