View In:
ArcGIS JavaScript
ArcGIS Online Map Viewer
ArcGIS Earth
Service Description: BADEA/O752_CAR_25June2021_WV3_tif
Name: BADEA/O752_CAR_25June2021_WV3_tif
Description:
Single Fused Map Cache: false
Extent:
XMin: 2297532.252910158
YMin: 641327.8854068193
XMax: 2302915.835311141
YMax: 644469.4888675164
Spatial Reference: 102100
(3857)
LatestVCSWkid(0)
Initial Extent:
XMin: 2297532.252910158
YMin: 641327.8854068193
XMax: 2302915.835311141
YMax: 644469.4888675164
Spatial Reference: 102100
(3857)
LatestVCSWkid(0)
Full Extent:
XMin: 2297532.252910158
YMin: 641327.8854068193
XMax: 2302915.835311141
YMax: 644469.4888675164
Spatial Reference: 102100
(3857)
LatestVCSWkid(0)
Pixel Size X: 0.3294121275764996
Pixel Size Y: 0.3294121275765029
Band Count: 3
Pixel Type: U8
RasterFunction Infos: {"rasterFunctionInfos": [{
"name": "None",
"description": "",
"help": ""
}]}
Mensuration Capabilities: Basic
Inspection Capabilities:
Has Histograms: true
Has Colormap: false
Has Multi Dimensions : false
Rendering Rule:
Min Scale: 0
Max Scale: 0
Resampling: false
Copyright Text:
Service Data Type: esriImageServiceDataTypeRGB
Min Values: 0, 0, 0
Max Values: 255, 255, 255
Mean Values: 93.188748753383, 87.128461934313, 83.446750714869
Standard Deviation Values: 30.418395936949, 23.582324627756, 21.417927592799
Object ID Field:
Fields:
None
Default Mosaic Method: Center
Allowed Mosaic Methods:
SortField:
SortValue: null
Mosaic Operator: First
Default Compression Quality: 75
Default Resampling Method: Bilinear
Max Record Count: null
Max Image Height: 4100
Max Image Width: 15000
Max Download Image Count: null
Max Mosaic Image Count: null
Allow Raster Function: true
Allow Copy: true
Allow Analysis: true
Allow Compute TiePoints: false
Supports Statistics: false
Supports Advanced Queries: false
Use StandardizedQueries: true
Raster Type Infos:
Name: Raster Dataset
Description: Supports all ArcGIS Raster Datasets
Help:
Has Raster Attribute Table: false
Edit Fields Info: null
Ownership Based AccessControl For Rasters: null
Child Resources:
Info
Histograms
Statistics
Key Properties
Legend
Raster Function Infos
Supported Operations:
Export Image
Identify
Measure
Compute Histograms
Compute Statistics Histograms
Get Samples
Compute Class Statistics
Query Boundary
Compute Pixel Location
Compute Angles
Validate
Project