View In:
ArcGIS JavaScript
ArcGIS Online Map Viewer
ArcGIS Earth
Service Description: BADEA/O752_CAR_25February2021_WV2_tif
Name: BADEA/O752_CAR_25February2021_WV2_tif
Description:
Single Fused Map Cache: false
Extent:
XMin: 2281763.177901799
YMin: 630244.690860923
XMax: 2287813.5240268004
YMax: 633386.2066056494
Spatial Reference: 102100
(3857)
LatestVCSWkid(0)
Initial Extent:
XMin: 2281763.177901799
YMin: 630244.690860923
XMax: 2287813.5240268004
YMax: 633386.2066056494
Spatial Reference: 102100
(3857)
LatestVCSWkid(0)
Full Extent:
XMin: 2281763.177901799
YMin: 630244.690860923
XMax: 2287813.5240268004
YMax: 633386.2066056494
Spatial Reference: 102100
(3857)
LatestVCSWkid(0)
Pixel Size X: 0.37093655355291233
Pixel Size Y: 0.37094293833113784
Band Count: 3
Pixel Type: U8
RasterFunction Infos: {"rasterFunctionInfos": [{
"name": "None",
"description": "",
"help": ""
}]}
Mensuration Capabilities: Basic
Inspection Capabilities:
Has Histograms: true
Has Colormap: false
Has Multi Dimensions : false
Rendering Rule:
Min Scale: 0
Max Scale: 0
Resampling: false
Copyright Text:
Service Data Type: esriImageServiceDataTypeRGB
Min Values: 0, 0, 0
Max Values: 255, 255, 255
Mean Values: 83.372959776427, 84.65130706854, 81.802798594122
Standard Deviation Values: 12.943205234635, 11.947904488176, 11.14731152979
Object ID Field:
Fields:
None
Default Mosaic Method: Center
Allowed Mosaic Methods:
SortField:
SortValue: null
Mosaic Operator: First
Default Compression Quality: 75
Default Resampling Method: Bilinear
Max Record Count: null
Max Image Height: 4100
Max Image Width: 15000
Max Download Image Count: null
Max Mosaic Image Count: null
Allow Raster Function: true
Allow Copy: true
Allow Analysis: true
Allow Compute TiePoints: false
Supports Statistics: false
Supports Advanced Queries: false
Use StandardizedQueries: true
Raster Type Infos:
Name: Raster Dataset
Description: Supports all ArcGIS Raster Datasets
Help:
Has Raster Attribute Table: false
Edit Fields Info: null
Ownership Based AccessControl For Rasters: null
Child Resources:
Info
Histograms
Statistics
Key Properties
Legend
Raster Function Infos
Supported Operations:
Export Image
Identify
Measure
Compute Histograms
Compute Statistics Histograms
Get Samples
Compute Class Statistics
Query Boundary
Compute Pixel Location
Compute Angles
Validate
Project