View In:
ArcGIS JavaScript
ArcGIS Online Map Viewer
ArcGIS Earth
Service Description: BADEA/O752_CAR_25February2021_WV2_Part2_tif
Name: BADEA/O752_CAR_25February2021_WV2_Part2_tif
Description:
Single Fused Map Cache: false
Extent:
XMin: 2281758.473519776
YMin: 602990.2089148547
XMax: 2286265.401473837
YMax: 606131.4470696737
Spatial Reference: 102100
(3857)
LatestVCSWkid(0)
Initial Extent:
XMin: 2281758.473519776
YMin: 602990.2089148547
XMax: 2286265.401473837
YMax: 606131.4470696737
Spatial Reference: 102100
(3857)
LatestVCSWkid(0)
Full Extent:
XMin: 2281758.473519776
YMin: 602990.2089148547
XMax: 2286265.401473837
YMax: 606131.4470696737
Spatial Reference: 102100
(3857)
LatestVCSWkid(0)
Pixel Size X: 0.37087952222358106
Pixel Size Y: 0.3708663701085009
Band Count: 3
Pixel Type: U8
RasterFunction Infos: {"rasterFunctionInfos": [{
"name": "None",
"description": "",
"help": ""
}]}
Mensuration Capabilities: Basic
Inspection Capabilities:
Has Histograms: true
Has Colormap: false
Has Multi Dimensions : false
Rendering Rule:
Min Scale: 0
Max Scale: 0
Resampling: false
Copyright Text:
Service Data Type: esriImageServiceDataTypeRGB
Min Values: 0, 0, 0
Max Values: 160, 159, 157
Mean Values: 73.161282384978, 78.430989160911, 76.299736591142
Standard Deviation Values: 15.532619528246, 13.642362945284, 12.585886442936
Object ID Field:
Fields:
None
Default Mosaic Method: Center
Allowed Mosaic Methods:
SortField:
SortValue: null
Mosaic Operator: First
Default Compression Quality: 75
Default Resampling Method: Bilinear
Max Record Count: null
Max Image Height: 4100
Max Image Width: 15000
Max Download Image Count: null
Max Mosaic Image Count: null
Allow Raster Function: true
Allow Copy: true
Allow Analysis: true
Allow Compute TiePoints: false
Supports Statistics: false
Supports Advanced Queries: false
Use StandardizedQueries: true
Raster Type Infos:
Name: Raster Dataset
Description: Supports all ArcGIS Raster Datasets
Help:
Has Raster Attribute Table: false
Edit Fields Info: null
Ownership Based AccessControl For Rasters: null
Child Resources:
Info
Histograms
Statistics
Key Properties
Legend
Raster Function Infos
Supported Operations:
Export Image
Identify
Measure
Compute Histograms
Compute Statistics Histograms
Get Samples
Compute Class Statistics
Query Boundary
Compute Pixel Location
Compute Angles
Validate
Project