View In:
ArcGIS JavaScript
ArcGIS Online Map Viewer
ArcGIS Earth
Service Description: BADEA/O752_CAR_22November2020_WV3_tif
Name: BADEA/O752_CAR_22November2020_WV3_tif
Description:
Single Fused Map Cache: false
Extent:
XMin: 2269345.612537928
YMin: 647344.9384714557
XMax: 2272342.908648519
YMax: 648915.749243929
Spatial Reference: 102100
(3857)
LatestVCSWkid(0)
Initial Extent:
XMin: 2269345.612537928
YMin: 647344.9384714557
XMax: 2272342.908648519
YMax: 648915.749243929
Spatial Reference: 102100
(3857)
LatestVCSWkid(0)
Full Extent:
XMin: 2269345.612537928
YMin: 647344.9384714557
XMax: 2272342.908648519
YMax: 648915.749243929
Spatial Reference: 102100
(3857)
LatestVCSWkid(0)
Pixel Size X: 0.330499074935596
Pixel Size Y: 0.33048827529420194
Band Count: 3
Pixel Type: U8
RasterFunction Infos: {"rasterFunctionInfos": [{
"name": "None",
"description": "",
"help": ""
}]}
Mensuration Capabilities: Basic
Inspection Capabilities:
Has Histograms: true
Has Colormap: false
Has Multi Dimensions : false
Rendering Rule:
Min Scale: 0
Max Scale: 0
Resampling: false
Copyright Text:
Service Data Type: esriImageServiceDataTypeRGB
Min Values: 0, 0, 0
Max Values: 255, 255, 255
Mean Values: 108.74074584973, 119.44173870768, 117.3223314896
Standard Deviation Values: 15.607346422561, 14.379003664586, 11.366336204343
Object ID Field:
Fields:
None
Default Mosaic Method: Center
Allowed Mosaic Methods:
SortField:
SortValue: null
Mosaic Operator: First
Default Compression Quality: 75
Default Resampling Method: Bilinear
Max Record Count: null
Max Image Height: 4100
Max Image Width: 15000
Max Download Image Count: null
Max Mosaic Image Count: null
Allow Raster Function: true
Allow Copy: true
Allow Analysis: true
Allow Compute TiePoints: false
Supports Statistics: false
Supports Advanced Queries: false
Use StandardizedQueries: true
Raster Type Infos:
Name: Raster Dataset
Description: Supports all ArcGIS Raster Datasets
Help:
Has Raster Attribute Table: false
Edit Fields Info: null
Ownership Based AccessControl For Rasters: null
Child Resources:
Info
Histograms
Statistics
Key Properties
Legend
Raster Function Infos
Supported Operations:
Export Image
Identify
Measure
Compute Histograms
Compute Statistics Histograms
Get Samples
Compute Class Statistics
Query Boundary
Compute Pixel Location
Compute Angles
Validate
Project