View In:
ArcGIS JavaScript
ArcGIS Online Map Viewer
ArcGIS Earth
Service Description: BADEA/O752_CAR_12March2022_WV3_tif
Name: BADEA/O752_CAR_12March2022_WV3_tif
Description:
Single Fused Map Cache: false
Extent:
XMin: 2127070.531562981
YMin: 565223.8270130724
XMax: 2140933.0345098134
YMax: 617540.7079339419
Spatial Reference: 102100
(3857)
LatestVCSWkid(0)
Initial Extent:
XMin: 2127070.531562981
YMin: 565223.8270130724
XMax: 2140933.0345098134
YMax: 617540.7079339419
Spatial Reference: 102100
(3857)
LatestVCSWkid(0)
Full Extent:
XMin: 2127070.531562981
YMin: 565223.8270130724
XMax: 2140933.0345098134
YMax: 617540.7079339419
Spatial Reference: 102100
(3857)
LatestVCSWkid(0)
Pixel Size X: 0.3186342791070707
Pixel Size Y: 0.3186342791070729
Band Count: 3
Pixel Type: U8
RasterFunction Infos: {"rasterFunctionInfos": [{
"name": "None",
"description": "",
"help": ""
}]}
Mensuration Capabilities: Basic
Inspection Capabilities:
Has Histograms: true
Has Colormap: false
Has Multi Dimensions : false
Rendering Rule:
Min Scale: 0
Max Scale: 0
Resampling: false
Copyright Text:
Service Data Type: esriImageServiceDataTypeRGB
Min Values: 0, 0, 0
Max Values: 255, 255, 255
Mean Values: 65.210668567727, 57.576455743708, 50.268028350661
Standard Deviation Values: 17.131635420145, 13.330250105848, 12.168930671761
Object ID Field:
Fields:
None
Default Mosaic Method: Center
Allowed Mosaic Methods:
SortField:
SortValue: null
Mosaic Operator: First
Default Compression Quality: 75
Default Resampling Method: Bilinear
Max Record Count: null
Max Image Height: 4100
Max Image Width: 15000
Max Download Image Count: null
Max Mosaic Image Count: null
Allow Raster Function: true
Allow Copy: true
Allow Analysis: true
Allow Compute TiePoints: false
Supports Statistics: false
Supports Advanced Queries: false
Use StandardizedQueries: true
Raster Type Infos:
Name: Raster Dataset
Description: Supports all ArcGIS Raster Datasets
Help:
Has Raster Attribute Table: false
Edit Fields Info: null
Ownership Based AccessControl For Rasters: null
Child Resources:
Info
Histograms
Statistics
Key Properties
Legend
Raster Function Infos
Supported Operations:
Export Image
Identify
Measure
Compute Histograms
Compute Statistics Histograms
Get Samples
Compute Class Statistics
Query Boundary
Compute Pixel Location
Compute Angles
Validate
Project