View In:
ArcGIS JavaScript
ArcGIS Online Map Viewer
ArcGIS Earth
Service Description: BADEA/O752_CAR_12December2021_WV1_tif
Name: BADEA/O752_CAR_12December2021_WV1_tif
Description:
Single Fused Map Cache: false
Extent:
XMin: 2138564.7319948445
YMin: 559260.7086982672
XMax: 2150795.3020602395
YMax: 565543.6320435815
Spatial Reference: 102100
(3857)
LatestVCSWkid(0)
Initial Extent:
XMin: 2138564.7319948445
YMin: 559260.7086982672
XMax: 2150795.3020602395
YMax: 565543.6320435815
Spatial Reference: 102100
(3857)
LatestVCSWkid(0)
Full Extent:
XMin: 2138564.7319948445
YMin: 559260.7086982672
XMax: 2150795.3020602395
YMax: 565543.6320435815
Spatial Reference: 102100
(3857)
LatestVCSWkid(0)
Pixel Size X: 0.5019111156186382
Pixel Size Y: 0.501911115618647
Band Count: 1
Pixel Type: U8
RasterFunction Infos: {"rasterFunctionInfos": [{
"name": "None",
"description": "",
"help": ""
}]}
Mensuration Capabilities: Basic
Inspection Capabilities:
Has Histograms: true
Has Colormap: false
Has Multi Dimensions : false
Rendering Rule:
Min Scale: 0
Max Scale: 0
Resampling: false
Copyright Text:
Service Data Type: esriImageServiceDataTypeGeneric
Min Values: 0
Max Values: 255
Mean Values: 110.90373725594
Standard Deviation Values: 30.597210222955
Object ID Field:
Fields:
None
Default Mosaic Method: Center
Allowed Mosaic Methods:
SortField:
SortValue: null
Mosaic Operator: First
Default Compression Quality: 75
Default Resampling Method: Bilinear
Max Record Count: null
Max Image Height: 4100
Max Image Width: 15000
Max Download Image Count: null
Max Mosaic Image Count: null
Allow Raster Function: true
Allow Copy: true
Allow Analysis: true
Allow Compute TiePoints: false
Supports Statistics: false
Supports Advanced Queries: false
Use StandardizedQueries: true
Raster Type Infos:
Name: Raster Dataset
Description: Supports all ArcGIS Raster Datasets
Help:
Has Raster Attribute Table: false
Edit Fields Info: null
Ownership Based AccessControl For Rasters: null
Child Resources:
Info
Histograms
Statistics
Key Properties
Legend
Raster Function Infos
Supported Operations:
Export Image
Identify
Measure
Compute Histograms
Compute Statistics Histograms
Get Samples
Compute Class Statistics
Query Boundary
Compute Pixel Location
Compute Angles
Validate
Project