View In:
ArcGIS JavaScript
ArcGIS Online Map Viewer
ArcGIS Earth
Service Description: BADEA/O752_CAR_10February2022_GEO1_tif
Name: BADEA/O752_CAR_10February2022_GEO1_tif
Description:
Single Fused Map Cache: false
Extent:
XMin: 2253437.5617638747
YMin: 566220.4666375689
XMax: 2270454.8828527234
YMax: 629425.4548228709
Spatial Reference: 102100
(3857)
LatestVCSWkid(0)
Initial Extent:
XMin: 2253437.5617638747
YMin: 566220.4666375689
XMax: 2270454.8828527234
YMax: 629425.4548228709
Spatial Reference: 102100
(3857)
LatestVCSWkid(0)
Full Extent:
XMin: 2253437.5617638747
YMin: 566220.4666375689
XMax: 2270454.8828527234
YMax: 629425.4548228709
Spatial Reference: 102100
(3857)
LatestVCSWkid(0)
Pixel Size X: 0.44088608448232125
Pixel Size Y: 0.44088608448232763
Band Count: 3
Pixel Type: U8
RasterFunction Infos: {"rasterFunctionInfos": [{
"name": "None",
"description": "",
"help": ""
}]}
Mensuration Capabilities: Basic
Inspection Capabilities:
Has Histograms: true
Has Colormap: false
Has Multi Dimensions : false
Rendering Rule:
Min Scale: 0
Max Scale: 0
Resampling: false
Copyright Text:
Service Data Type: esriImageServiceDataTypeRGB
Min Values: 0, 0, 0
Max Values: 255, 255, 255
Mean Values: 149.56411553842, 150.99242096907, 147.04292807217
Standard Deviation Values: 37.542335497268, 32.891398033216, 31.942467671767
Object ID Field:
Fields:
None
Default Mosaic Method: Center
Allowed Mosaic Methods:
SortField:
SortValue: null
Mosaic Operator: First
Default Compression Quality: 75
Default Resampling Method: Bilinear
Max Record Count: null
Max Image Height: 4100
Max Image Width: 15000
Max Download Image Count: null
Max Mosaic Image Count: null
Allow Raster Function: true
Allow Copy: true
Allow Analysis: true
Allow Compute TiePoints: false
Supports Statistics: false
Supports Advanced Queries: false
Use StandardizedQueries: true
Raster Type Infos:
Name: Raster Dataset
Description: Supports all ArcGIS Raster Datasets
Help:
Has Raster Attribute Table: false
Edit Fields Info: null
Ownership Based AccessControl For Rasters: null
Child Resources:
Info
Histograms
Statistics
Key Properties
Legend
Raster Function Infos
Supported Operations:
Export Image
Identify
Measure
Compute Histograms
Compute Statistics Histograms
Get Samples
Compute Class Statistics
Query Boundary
Compute Pixel Location
Compute Angles
Validate
Project