View In:
ArcGIS JavaScript
ArcGIS Online Map Viewer
ArcGIS Earth
Service Description: BADEA/O752_CAR_05February2022_WV1_tif
Name: BADEA/O752_CAR_05February2022_WV1_tif
Description:
Single Fused Map Cache: false
Extent:
XMin: 2144890.840296962
YMin: 573685.1027032674
XMax: 2164919.665336858
YMax: 590168.1500858576
Spatial Reference: 102100
(3857)
LatestVCSWkid(0)
Initial Extent:
XMin: 2144890.840296962
YMin: 573685.1027032674
XMax: 2164919.665336858
YMax: 590168.1500858576
Spatial Reference: 102100
(3857)
LatestVCSWkid(0)
Full Extent:
XMin: 2144890.840296962
YMin: 573685.1027032674
XMax: 2164919.665336858
YMax: 590168.1500858576
Spatial Reference: 102100
(3857)
LatestVCSWkid(0)
Pixel Size X: 0.5019504044884011
Pixel Size Y: 0.501950404488405
Band Count: 1
Pixel Type: U8
RasterFunction Infos: {"rasterFunctionInfos": [{
"name": "None",
"description": "",
"help": ""
}]}
Mensuration Capabilities: Basic
Inspection Capabilities:
Has Histograms: true
Has Colormap: false
Has Multi Dimensions : false
Rendering Rule:
Min Scale: 0
Max Scale: 0
Resampling: false
Copyright Text:
Service Data Type: esriImageServiceDataTypeGeneric
Min Values: 0
Max Values: 255
Mean Values: 169.32621477163
Standard Deviation Values: 48.257414302161
Object ID Field:
Fields:
None
Default Mosaic Method: Center
Allowed Mosaic Methods:
SortField:
SortValue: null
Mosaic Operator: First
Default Compression Quality: 75
Default Resampling Method: Bilinear
Max Record Count: null
Max Image Height: 4100
Max Image Width: 15000
Max Download Image Count: null
Max Mosaic Image Count: null
Allow Raster Function: true
Allow Copy: true
Allow Analysis: true
Allow Compute TiePoints: false
Supports Statistics: false
Supports Advanced Queries: false
Use StandardizedQueries: true
Raster Type Infos:
Name: Raster Dataset
Description: Supports all ArcGIS Raster Datasets
Help:
Has Raster Attribute Table: false
Edit Fields Info: null
Ownership Based AccessControl For Rasters: null
Child Resources:
Info
Histograms
Statistics
Key Properties
Legend
Raster Function Infos
Supported Operations:
Export Image
Identify
Measure
Compute Histograms
Compute Statistics Histograms
Get Samples
Compute Class Statistics
Query Boundary
Compute Pixel Location
Compute Angles
Validate
Project