View In:
ArcGIS JavaScript
ArcGIS Online Map Viewer
ArcGIS Earth
ArcMap
View Footprint In:
ArcGIS Online Map Viewer
Service Description: BADEA/O749_Tchad_Jun2021PL
Name: BADEA/O749_Tchad_Jun2021PL
Description:
Single Fused Map Cache: false
Extent:
XMin: 1604566.0975458212
YMin: 1487158.822116097
XMax: 1741541.2522138334
YMax: 1565430.3390692468
Spatial Reference: 102100
(3857)
Initial Extent:
XMin: 1604566.0975458212
YMin: 1487158.822116097
XMax: 1741541.2522138334
YMax: 1565430.3390692468
Spatial Reference: 102100
(3857)
Full Extent:
XMin: 1604566.0975458212
YMin: 1487158.822116097
XMax: 1741541.2522138334
YMax: 1565430.3390692468
Spatial Reference: 102100
(3857)
Pixel Size X: 4.777314267160023
Pixel Size Y: 4.777314267160023
Band Count: 5
Pixel Type: U16
RasterFunction Infos: {"rasterFunctionInfos": [{
"name": "None",
"description": "",
"help": ""
}]}
Mensuration Capabilities: Basic
Has Histograms: true
Has Colormap: false
Has Multi Dimensions : false
Rendering Rule:
Min Scale: 0
Max Scale: 0
Copyright Text:
Service Data Type: esriImageServiceDataTypeGeneric
Min Values: 0, 0, 0, 0, 65535
Max Values: 9804, 10000, 10000, 10000, 65535
Mean Values: 1258.1674428177732, 1934.582134483116, 2520.8184973299503, 3761.3987828982727, 65535
Standard Deviation Values: 366.0394358693156, 524.2827689148306, 803.0956610945617, 940.5548875509556, 0
Object ID Field:
Fields:
None
Default Mosaic Method: Center
Allowed Mosaic Methods:
SortField:
SortValue: null
Mosaic Operator: First
Default Compression Quality: 75
Default Resampling Method: Bilinear
Max Record Count: null
Max Image Height: 4100
Max Image Width: 15000
Max Download Image Count: null
Max Mosaic Image Count: null
Allow Raster Function: true
Allow Copy: true
Allow Analysis: true
Allow Compute TiePoints: false
Supports Statistics: false
Supports Advanced Queries: false
Use StandardizedQueries: true
Raster Type Infos:
Name: Raster Dataset
Description: Supports all ArcGIS Raster Datasets
Help:
Has Raster Attribute Table: false
Edit Fields Info: null
Ownership Based AccessControl For Rasters: null
Child Resources:
Info
Histograms
Statistics
Key Properties
Legend
Raster Function Infos
Supported Operations:
Export Image
Identify
Measure
Compute Histograms
Compute Statistics Histograms
Get Samples
Compute Class Statistics
Query Boundary
Compute Pixel Location
Compute Angles
Validate
Project