View In:
ArcGIS JavaScript
ArcGIS Online Map Viewer
ArcGIS Earth
Service Description: BADEA/O749_Tchad_Jan2022PL
Name: BADEA/O749_Tchad_Jan2022PL
Description:
Single Fused Map Cache: false
Extent:
XMin: 1604566.0975458212
YMin: 1487158.822116097
XMax: 1741541.2522138334
YMax: 1565430.3390692468
Spatial Reference: 102100
(3857)
LatestVCSWkid(0)
Initial Extent:
XMin: 1604566.0975458212
YMin: 1487158.822116097
XMax: 1741541.2522138334
YMax: 1565430.3390692468
Spatial Reference: 102100
(3857)
LatestVCSWkid(0)
Full Extent:
XMin: 1604566.0975458212
YMin: 1487158.822116097
XMax: 1741541.2522138334
YMax: 1565430.3390692468
Spatial Reference: 102100
(3857)
LatestVCSWkid(0)
Pixel Size X: 4.777314267160023
Pixel Size Y: 4.777314267160023
Band Count: 5
Pixel Type: U16
RasterFunction Infos: {"rasterFunctionInfos": [{
"name": "None",
"description": "",
"help": ""
}]}
Mensuration Capabilities: Basic
Inspection Capabilities:
Has Histograms: true
Has Colormap: false
Has Multi Dimensions : false
Rendering Rule:
Min Scale: 0
Max Scale: 0
Copyright Text:
Service Data Type: esriImageServiceDataTypeGeneric
Min Values: 5, 0, 0, 0, 65535
Max Values: 7669, 8617, 9866, 10000, 65535
Mean Values: 1257.6746977525097, 1930.5021570431334, 2516.106708311609, 3736.568260727184, 65535
Standard Deviation Values: 377.9421810697704, 536.5729140058797, 826.7742214490783, 1037.1163257005994, 0
Object ID Field:
Fields:
None
Default Mosaic Method: Center
Allowed Mosaic Methods:
SortField:
SortValue: null
Mosaic Operator: First
Default Compression Quality: 75
Default Resampling Method: Bilinear
Max Record Count: null
Max Image Height: 4100
Max Image Width: 15000
Max Download Image Count: null
Max Mosaic Image Count: null
Allow Raster Function: true
Allow Copy: true
Allow Analysis: true
Allow Compute TiePoints: false
Supports Statistics: false
Supports Advanced Queries: false
Use StandardizedQueries: true
Raster Type Infos:
Name: Raster Dataset
Description: Supports all ArcGIS Raster Datasets
Help:
Has Raster Attribute Table: false
Edit Fields Info: null
Ownership Based AccessControl For Rasters: null
Child Resources:
Info
Histograms
Statistics
Key Properties
Legend
Raster Function Infos
Supported Operations:
Export Image
Identify
Measure
Compute Histograms
Compute Statistics Histograms
Get Samples
Compute Class Statistics
Query Boundary
Compute Pixel Location
Compute Angles
Validate
Project