View In:
ArcGIS JavaScript
ArcGIS Online Map Viewer
ArcGIS Earth
Service Description: BADEA/O749_Tchad_Dec2020PL
Name: BADEA/O749_Tchad_Dec2020PL
Description:
Single Fused Map Cache: false
Extent:
XMin: 1604566.0975458212
YMin: 1487158.822116097
XMax: 1741541.2522138334
YMax: 1565430.3390692468
Spatial Reference: 102100
(3857)
LatestVCSWkid(0)
Initial Extent:
XMin: 1604566.0975458212
YMin: 1487158.822116097
XMax: 1741541.2522138334
YMax: 1565430.3390692468
Spatial Reference: 102100
(3857)
LatestVCSWkid(0)
Full Extent:
XMin: 1604566.0975458212
YMin: 1487158.822116097
XMax: 1741541.2522138334
YMax: 1565430.3390692468
Spatial Reference: 102100
(3857)
LatestVCSWkid(0)
Pixel Size X: 4.777314267160023
Pixel Size Y: 4.777314267160023
Band Count: 5
Pixel Type: U16
RasterFunction Infos: {"rasterFunctionInfos": [{
"name": "None",
"description": "",
"help": ""
}]}
Mensuration Capabilities: Basic
Inspection Capabilities:
Has Histograms: true
Has Colormap: false
Has Multi Dimensions : false
Rendering Rule:
Min Scale: 0
Max Scale: 0
Resampling: false
Copyright Text:
Service Data Type: esriImageServiceDataTypeGeneric
Min Values: 78, 142, 91, 51, 65535
Max Values: 7547, 7799, 9399, 10000, 65535
Mean Values: 1253.3764621956009, 1926.7890495679208, 2506.5496960622922, 3733.167324059776, 65535
Standard Deviation Values: 369.27447630536295, 533.3491025706982, 815.9319773579808, 982.9489736811862, 0
Object ID Field:
Fields:
None
Default Mosaic Method: Center
Allowed Mosaic Methods:
SortField:
SortValue: null
Mosaic Operator: First
Default Compression Quality: 75
Default Resampling Method: Bilinear
Max Record Count: null
Max Image Height: 4100
Max Image Width: 15000
Max Download Image Count: null
Max Mosaic Image Count: null
Allow Raster Function: true
Allow Copy: true
Allow Analysis: true
Allow Compute TiePoints: false
Supports Statistics: false
Supports Advanced Queries: false
Use StandardizedQueries: true
Raster Type Infos:
Name: Raster Dataset
Description: Supports all ArcGIS Raster Datasets
Help:
Has Raster Attribute Table: false
Edit Fields Info: null
Ownership Based AccessControl For Rasters: null
Child Resources:
Info
Histograms
Statistics
Key Properties
Legend
Raster Function Infos
Supported Operations:
Export Image
Identify
Measure
Compute Histograms
Compute Statistics Histograms
Get Samples
Compute Class Statistics
Query Boundary
Compute Pixel Location
Compute Angles
Validate
Project