View In:
ArcGIS JavaScript
ArcGIS Online Map Viewer
ArcGIS Earth
Service Description: BADEA/O746_Uganda_JAN22PL
Name: BADEA/O746_Uganda_JAN22PL
Description:
Single Fused Map Cache: false
Extent:
XMin: 3522218.262897983
YMin: -58703.63770860285
XMax: 3580921.9006128456
YMax: -19567.87923202812
Spatial Reference: 102100
(3857)
LatestVCSWkid(0)
Initial Extent:
XMin: 3522218.262897983
YMin: -58703.63770860285
XMax: 3580921.9006128456
YMax: -19567.87923202812
Spatial Reference: 102100
(3857)
LatestVCSWkid(0)
Full Extent:
XMin: 3522218.262897983
YMin: -58703.63770860285
XMax: 3580921.9006128456
YMax: -19567.87923202812
Spatial Reference: 102100
(3857)
LatestVCSWkid(0)
Pixel Size X: 4.777314267160023
Pixel Size Y: 4.777314267160001
Band Count: 5
Pixel Type: S16
RasterFunction Infos: {"rasterFunctionInfos": [{
"name": "None",
"description": "",
"help": ""
}]}
Mensuration Capabilities: Basic
Inspection Capabilities:
Has Histograms: true
Has Colormap: false
Has Multi Dimensions : false
Rendering Rule:
Min Scale: 0
Max Scale: 0
Copyright Text:
Service Data Type: esriImageServiceDataTypeGeneric
Min Values: 95, 139, 0, 0, 32767
Max Values: 2917, 4450, 4500, 7952, 32767
Mean Values: 347.9120426476002, 530.5123226543268, 446.69581852356595, 1744.8353439072769, 32767
Standard Deviation Values: 102.57270022964643, 123.89961207880852, 164.67357809154362, 1273.340891409632, 0
Object ID Field:
Fields:
None
Default Mosaic Method: Center
Allowed Mosaic Methods:
SortField:
SortValue: null
Mosaic Operator: First
Default Compression Quality: 75
Default Resampling Method: Bilinear
Max Record Count: null
Max Image Height: 4100
Max Image Width: 15000
Max Download Image Count: null
Max Mosaic Image Count: null
Allow Raster Function: true
Allow Copy: true
Allow Analysis: true
Allow Compute TiePoints: false
Supports Statistics: false
Supports Advanced Queries: false
Use StandardizedQueries: true
Raster Type Infos:
Name: Raster Dataset
Description: Supports all ArcGIS Raster Datasets
Help:
Has Raster Attribute Table: false
Edit Fields Info: null
Ownership Based AccessControl For Rasters: null
Child Resources:
Info
Histograms
Statistics
Key Properties
Legend
Raster Function Infos
Supported Operations:
Export Image
Identify
Measure
Compute Histograms
Compute Statistics Histograms
Get Samples
Compute Class Statistics
Query Boundary
Compute Pixel Location
Compute Angles
Validate
Project