View In:
ArcGIS JavaScript
ArcGIS Online Map Viewer
ArcGIS Earth
Service Description: BADEA/O733_Niger_July_2022PL_tif
Name: BADEA/O733_Niger_July_2022PL_tif
Description:
Single Fused Map Cache: false
Extent:
XMin: 645740.0148697408
YMin: 2093763.0785030075
XMax: 841418.8072526142
YMax: 2230738.233171019
Spatial Reference: 102100
(3857)
LatestVCSWkid(0)
Initial Extent:
XMin: 645740.0148697408
YMin: 2093763.0785030075
XMax: 841418.8072526142
YMax: 2230738.233171019
Spatial Reference: 102100
(3857)
LatestVCSWkid(0)
Full Extent:
XMin: 645740.0148697408
YMin: 2093763.0785030075
XMax: 841418.8072526142
YMax: 2230738.233171019
Spatial Reference: 102100
(3857)
LatestVCSWkid(0)
Pixel Size X: 4.777314267159994
Pixel Size Y: 4.77731426715999
Band Count: 5
Pixel Type: U16
RasterFunction Infos: {"rasterFunctionInfos": [{
"name": "None",
"description": "",
"help": ""
}]}
Mensuration Capabilities: Basic
Inspection Capabilities:
Has Histograms: true
Has Colormap: false
Has Multi Dimensions : false
Rendering Rule:
Min Scale: 0
Max Scale: 0
Resampling: false
Copyright Text:
Service Data Type: esriImageServiceDataTypeGeneric
Min Values: 335, 459, 562, 676, 0
Max Values: 7350, 7671, 65535, 65535, 65535
Mean Values: 1393.4541551555, 2438.9160259926, 3825.0671107881, 4973.4046294639, 64949.866071433
Standard Deviation Values: 140.47505398358, 239.88836961843, 3594.3541138974, 5765.4118939179, 6164.7684730998
Object ID Field:
Fields:
None
Default Mosaic Method: Center
Allowed Mosaic Methods:
SortField:
SortValue: null
Mosaic Operator: First
Default Compression Quality: 75
Default Resampling Method: Bilinear
Max Record Count: null
Max Image Height: 4100
Max Image Width: 15000
Max Download Image Count: null
Max Mosaic Image Count: null
Allow Raster Function: true
Allow Copy: true
Allow Analysis: true
Allow Compute TiePoints: false
Supports Statistics: false
Supports Advanced Queries: false
Use StandardizedQueries: true
Raster Type Infos:
Name: Raster Dataset
Description: Supports all ArcGIS Raster Datasets
Help:
Has Raster Attribute Table: false
Edit Fields Info: null
Ownership Based AccessControl For Rasters: null
Child Resources:
Info
Histograms
Statistics
Key Properties
Legend
Raster Function Infos
Supported Operations:
Export Image
Identify
Measure
Compute Histograms
Compute Statistics Histograms
Get Samples
Compute Class Statistics
Query Boundary
Compute Pixel Location
Compute Angles
Validate
Project