View In:
ArcGIS JavaScript
ArcGIS Online Map Viewer
ArcGIS Earth
Service Description: BADEA/O733_Niger_February2022_PL_tif
Name: BADEA/O733_Niger_February2022_PL_tif
Description:
Single Fused Map Cache: false
Extent:
XMin: 626172.1356314532
YMin: 2093763.0785030038
XMax: 841418.8072526152
YMax: 2230738.233171016
Spatial Reference: 102100
(3857)
LatestVCSWkid(0)
Initial Extent:
XMin: 626172.1356314532
YMin: 2093763.0785030038
XMax: 841418.8072526152
YMax: 2230738.233171016
Spatial Reference: 102100
(3857)
LatestVCSWkid(0)
Full Extent:
XMin: 626172.1356314532
YMin: 2093763.0785030038
XMax: 841418.8072526152
YMax: 2230738.233171016
Spatial Reference: 102100
(3857)
LatestVCSWkid(0)
Pixel Size X: 4.777314267160023
Pixel Size Y: 4.777314267160023
Band Count: 5
Pixel Type: U16
RasterFunction Infos: {"rasterFunctionInfos": [{
"name": "None",
"description": "",
"help": ""
}]}
Mensuration Capabilities: Basic
Inspection Capabilities:
Has Histograms: false
Has Colormap: false
Has Multi Dimensions : false
Rendering Rule:
Min Scale: 0
Max Scale: 0
Resampling: false
Copyright Text:
Service Data Type: esriImageServiceDataTypeGeneric
Min Values: 353, 542, 441, 173, 65535
Max Values: 7355, 7747, 8124, 8451, 65535
Mean Values: 1410.969324996, 2458.587398792, 3641.6955415946, 4436.1594934323, 65535
Standard Deviation Values: 138.27019845139, 237.38310915515, 359.15090308848, 459.66209337302, 0
Object ID Field:
Fields:
None
Default Mosaic Method: Center
Allowed Mosaic Methods:
SortField:
SortValue: null
Mosaic Operator: First
Default Compression Quality: 75
Default Resampling Method: Bilinear
Max Record Count: null
Max Image Height: 4100
Max Image Width: 15000
Max Download Image Count: null
Max Mosaic Image Count: null
Allow Raster Function: true
Allow Copy: true
Allow Analysis: true
Allow Compute TiePoints: false
Supports Statistics: false
Supports Advanced Queries: false
Use StandardizedQueries: true
Raster Type Infos:
Name: Raster Dataset
Description: Supports all ArcGIS Raster Datasets
Help:
Has Raster Attribute Table: false
Edit Fields Info: null
Ownership Based AccessControl For Rasters: null
Child Resources:
Info
Statistics
Key Properties
Legend
Raster Function Infos
Supported Operations:
Export Image
Identify
Measure
Compute Histograms
Compute Statistics Histograms
Get Samples
Compute Class Statistics
Query Boundary
Compute Pixel Location
Compute Angles
Validate
Project