View In:
ArcGIS JavaScript
ArcGIS Online Map Viewer
ArcGIS Earth
Service Description: BADEA/O733_Niger_19May2022_WV3_Part1
Name: BADEA/O733_Niger_19May2022_WV3_Part1
Description:
Single Fused Map Cache: false
Extent:
XMin: 813013.0704284727
YMin: 2107177.379652455
XMax: 827681.848081528
YMax: 2143676.7968487022
Spatial Reference: 102100
(3857)
LatestVCSWkid(0)
Initial Extent:
XMin: 813013.0704284727
YMin: 2107177.379652455
XMax: 827681.848081528
YMax: 2143676.7968487022
Spatial Reference: 102100
(3857)
LatestVCSWkid(0)
Full Extent:
XMin: 813013.0704284727
YMin: 2107177.379652455
XMax: 827681.848081528
YMax: 2143676.7968487022
Spatial Reference: 102100
(3857)
LatestVCSWkid(0)
Pixel Size X: 0.34678781184082996
Pixel Size Y: 0.3467878118408291
Band Count: 3
Pixel Type: U8
RasterFunction Infos: {"rasterFunctionInfos": [{
"name": "None",
"description": "",
"help": ""
}]}
Mensuration Capabilities: Basic
Inspection Capabilities:
Has Histograms: true
Has Colormap: false
Has Multi Dimensions : false
Rendering Rule:
Min Scale: 0
Max Scale: 0
Resampling: false
Copyright Text:
Service Data Type: esriImageServiceDataTypeRGB
Min Values: 0, 0, 0
Max Values: 254, 254, 254
Mean Values: 146.82627499353, 119.00078354617, 100.69174919208
Standard Deviation Values: 12.101400097349, 10.085532492388, 6.9777207972577
Object ID Field:
Fields:
None
Default Mosaic Method: Center
Allowed Mosaic Methods:
SortField:
SortValue: null
Mosaic Operator: First
Default Compression Quality: 75
Default Resampling Method: Bilinear
Max Record Count: null
Max Image Height: 4100
Max Image Width: 15000
Max Download Image Count: null
Max Mosaic Image Count: null
Allow Raster Function: true
Allow Copy: true
Allow Analysis: true
Allow Compute TiePoints: false
Supports Statistics: false
Supports Advanced Queries: false
Use StandardizedQueries: true
Raster Type Infos:
Name: Raster Dataset
Description: Supports all ArcGIS Raster Datasets
Help:
Has Raster Attribute Table: false
Edit Fields Info: null
Ownership Based AccessControl For Rasters: null
Child Resources:
Info
Histograms
Statistics
Key Properties
Legend
Raster Function Infos
Supported Operations:
Export Image
Identify
Measure
Compute Histograms
Compute Statistics Histograms
Get Samples
Compute Class Statistics
Query Boundary
Compute Pixel Location
Compute Angles
Validate
Project