View In:
ArcGIS JavaScript
ArcGIS Online Map Viewer
ArcGIS Earth
Service Description: BADEA/O733_Niger_13July2022_GEO1
Name: BADEA/O733_Niger_13July2022_GEO1
Description:
Single Fused Map Cache: false
Extent:
XMin: 813303.2872220643
YMin: 2112743.0010029776
XMax: 831403.6340933109
YMax: 2137213.978866923
Spatial Reference: 102100
(3857)
LatestVCSWkid(0)
Initial Extent:
XMin: 813303.2872220643
YMin: 2112743.0010029776
XMax: 831403.6340933109
YMax: 2137213.978866923
Spatial Reference: 102100
(3857)
LatestVCSWkid(0)
Full Extent:
XMin: 813303.2872220643
YMin: 2112743.0010029776
XMax: 831403.6340933109
YMax: 2137213.978866923
Spatial Reference: 102100
(3857)
LatestVCSWkid(0)
Pixel Size X: 0.5022572526568229
Pixel Size Y: 0.502257252656819
Band Count: 3
Pixel Type: U8
RasterFunction Infos: {"rasterFunctionInfos": [{
"name": "None",
"description": "",
"help": ""
}]}
Mensuration Capabilities: Basic
Inspection Capabilities:
Has Histograms: true
Has Colormap: false
Has Multi Dimensions : false
Rendering Rule:
Min Scale: 0
Max Scale: 0
Resampling: false
Copyright Text:
Service Data Type: esriImageServiceDataTypeRGB
Min Values: 0, 0, 0
Max Values: 255, 255, 255
Mean Values: 218.9956498514, 186.0051597932, 161.1169836262
Standard Deviation Values: 28.966211281341, 25.796500815137, 22.407994839518
Object ID Field:
Fields:
None
Default Mosaic Method: Center
Allowed Mosaic Methods:
SortField:
SortValue: null
Mosaic Operator: First
Default Compression Quality: 75
Default Resampling Method: Bilinear
Max Record Count: null
Max Image Height: 4100
Max Image Width: 15000
Max Download Image Count: null
Max Mosaic Image Count: null
Allow Raster Function: true
Allow Copy: true
Allow Analysis: true
Allow Compute TiePoints: false
Supports Statistics: false
Supports Advanced Queries: false
Use StandardizedQueries: true
Raster Type Infos:
Name: Raster Dataset
Description: Supports all ArcGIS Raster Datasets
Help:
Has Raster Attribute Table: false
Edit Fields Info: null
Ownership Based AccessControl For Rasters: null
Child Resources:
Info
Histograms
Statistics
Key Properties
Legend
Raster Function Infos
Supported Operations:
Export Image
Identify
Measure
Compute Histograms
Compute Statistics Histograms
Get Samples
Compute Class Statistics
Query Boundary
Compute Pixel Location
Compute Angles
Validate
Project