View In:
ArcGIS JavaScript
ArcGIS Online Map Viewer
ArcGIS Earth
Service Description: BADEA/O733_Niger_12May2022_WV3
Name: BADEA/O733_Niger_12May2022_WV3
Description:
Single Fused Map Cache: false
Extent:
XMin: 782221.5608239861
YMin: 2131408.012475365
XMax: 800169.7728811724
YMax: 2167907.308833364
Spatial Reference: 102100
(3857)
LatestVCSWkid(0)
Initial Extent:
XMin: 782221.5608239861
YMin: 2131408.012475365
XMax: 800169.7728811724
YMax: 2167907.308833364
Spatial Reference: 102100
(3857)
LatestVCSWkid(0)
Full Extent:
XMin: 782221.5608239861
YMin: 2131408.012475365
XMax: 800169.7728811724
YMax: 2167907.308833364
Spatial Reference: 102100
(3857)
LatestVCSWkid(0)
Pixel Size X: 0.3897041005989728
Pixel Size Y: 0.3897041005989717
Band Count: 3
Pixel Type: U8
RasterFunction Infos: {"rasterFunctionInfos": [{
"name": "None",
"description": "",
"help": ""
}]}
Mensuration Capabilities: Basic
Inspection Capabilities:
Has Histograms: true
Has Colormap: false
Has Multi Dimensions : false
Rendering Rule:
Min Scale: 0
Max Scale: 0
Resampling: false
Copyright Text:
Service Data Type: esriImageServiceDataTypeRGB
Min Values: 0, 0, 0
Max Values: 254, 254, 254
Mean Values: 210.17416403339, 178.79180363539, 160.40964803153
Standard Deviation Values: 20.749372255217, 23.437902699705, 25.720402528498
Object ID Field:
Fields:
None
Default Mosaic Method: Center
Allowed Mosaic Methods:
SortField:
SortValue: null
Mosaic Operator: First
Default Compression Quality: 75
Default Resampling Method: Bilinear
Max Record Count: null
Max Image Height: 4100
Max Image Width: 15000
Max Download Image Count: null
Max Mosaic Image Count: null
Allow Raster Function: true
Allow Copy: true
Allow Analysis: true
Allow Compute TiePoints: false
Supports Statistics: false
Supports Advanced Queries: false
Use StandardizedQueries: true
Raster Type Infos:
Name: Raster Dataset
Description: Supports all ArcGIS Raster Datasets
Help:
Has Raster Attribute Table: false
Edit Fields Info: null
Ownership Based AccessControl For Rasters: null
Child Resources:
Info
Histograms
Statistics
Key Properties
Legend
Raster Function Infos
Supported Operations:
Export Image
Identify
Measure
Compute Histograms
Compute Statistics Histograms
Get Samples
Compute Class Statistics
Query Boundary
Compute Pixel Location
Compute Angles
Validate
Project