View In:
ArcGIS JavaScript
ArcGIS Online Map Viewer
ArcGIS Earth
Service Description: BADEA/O733_Niger_05July2022_WV1
Name: BADEA/O733_Niger_05July2022_WV1
Description:
Single Fused Map Cache: false
Extent:
XMin: 778691.3116553562
YMin: 2129841.10793605
XMax: 802723.6275871126
YMax: 2157280.7143316437
Spatial Reference: 102100
(3857)
LatestVCSWkid(0)
Initial Extent:
XMin: 778691.3116553562
YMin: 2129841.10793605
XMax: 802723.6275871126
YMax: 2157280.7143316437
Spatial Reference: 102100
(3857)
LatestVCSWkid(0)
Full Extent:
XMin: 778691.3116553562
YMin: 2129841.10793605
XMax: 802723.6275871126
YMax: 2157280.7143316437
Spatial Reference: 102100
(3857)
LatestVCSWkid(0)
Pixel Size X: 0.5150076275449254
Pixel Size Y: 0.5150076275449295
Band Count: 1
Pixel Type: U8
RasterFunction Infos: {"rasterFunctionInfos": [{
"name": "None",
"description": "",
"help": ""
}]}
Mensuration Capabilities: Basic
Inspection Capabilities:
Has Histograms: true
Has Colormap: false
Has Multi Dimensions : false
Rendering Rule:
Min Scale: 0
Max Scale: 0
Resampling: false
Copyright Text:
Service Data Type: esriImageServiceDataTypeGeneric
Min Values: 0
Max Values: 255
Mean Values: 220.1620287304
Standard Deviation Values: 36.157015195391
Object ID Field:
Fields:
None
Default Mosaic Method: Center
Allowed Mosaic Methods:
SortField:
SortValue: null
Mosaic Operator: First
Default Compression Quality: 75
Default Resampling Method: Bilinear
Max Record Count: null
Max Image Height: 4100
Max Image Width: 15000
Max Download Image Count: null
Max Mosaic Image Count: null
Allow Raster Function: true
Allow Copy: true
Allow Analysis: true
Allow Compute TiePoints: false
Supports Statistics: false
Supports Advanced Queries: false
Use StandardizedQueries: true
Raster Type Infos:
Name: Raster Dataset
Description: Supports all ArcGIS Raster Datasets
Help:
Has Raster Attribute Table: false
Edit Fields Info: null
Ownership Based AccessControl For Rasters: null
Child Resources:
Info
Histograms
Statistics
Key Properties
Legend
Raster Function Infos
Supported Operations:
Export Image
Identify
Measure
Compute Histograms
Compute Statistics Histograms
Get Samples
Compute Class Statistics
Query Boundary
Compute Pixel Location
Compute Angles
Validate
Project