View In:
ArcGIS JavaScript
ArcGIS Online Map Viewer
ArcGIS Earth
Service Description: BADEA/O727_DRC_July2021_PL
Name: BADEA/O727_DRC_July2021_PL
Description:
Single Fused Map Cache: false
Extent:
XMin: 1702405.493737258
YMin: -489196.980950924
XMax: 1721973.3729755455
YMax: -469629.10171263665
Spatial Reference: 102100
(3857)
LatestVCSWkid(0)
Initial Extent:
XMin: 1702405.493737258
YMin: -489196.980950924
XMax: 1721973.3729755455
YMax: -469629.10171263665
Spatial Reference: 102100
(3857)
LatestVCSWkid(0)
Full Extent:
XMin: 1702405.493737258
YMin: -489196.980950924
XMax: 1721973.3729755455
YMax: -469629.10171263665
Spatial Reference: 102100
(3857)
LatestVCSWkid(0)
Pixel Size X: 4.777314267160023
Pixel Size Y: 4.777314267159994
Band Count: 4
Pixel Type: U8
RasterFunction Infos: {"rasterFunctionInfos": [{
"name": "None",
"description": "",
"help": ""
}]}
Mensuration Capabilities: Basic
Inspection Capabilities:
Has Histograms: true
Has Colormap: false
Has Multi Dimensions : false
Rendering Rule:
Min Scale: 0
Max Scale: 0
Resampling: false
Copyright Text:
Service Data Type: esriImageServiceDataTypeGeneric
Min Values: 0, 0, 0, 255
Max Values: 255, 251, 228, 255
Mean Values: 91.509217977525, 80.873941421493, 58.190319240092, 255
Standard Deviation Values: 38.939609148017, 26.562789220674, 22.834917260323, 0
Object ID Field:
Fields:
None
Default Mosaic Method: Center
Allowed Mosaic Methods:
SortField:
SortValue: null
Mosaic Operator: First
Default Compression Quality: 75
Default Resampling Method: Bilinear
Max Record Count: null
Max Image Height: 4100
Max Image Width: 15000
Max Download Image Count: null
Max Mosaic Image Count: null
Allow Raster Function: true
Allow Copy: true
Allow Analysis: true
Allow Compute TiePoints: false
Supports Statistics: false
Supports Advanced Queries: false
Use StandardizedQueries: true
Raster Type Infos:
Name: Raster Dataset
Description: Supports all ArcGIS Raster Datasets
Help:
Has Raster Attribute Table: false
Edit Fields Info: null
Ownership Based AccessControl For Rasters: null
Child Resources:
Info
Histograms
Statistics
Key Properties
Legend
Raster Function Infos
Supported Operations:
Export Image
Identify
Measure
Compute Histograms
Compute Statistics Histograms
Get Samples
Compute Class Statistics
Query Boundary
Compute Pixel Location
Compute Angles
Validate
Project