View In:
ArcGIS JavaScript
ArcGIS Online Map Viewer
ArcGIS Earth
Service Description: BADEA/O727_DRC_30July2022_WV2
Name: BADEA/O727_DRC_30July2022_WV2
Description:
Single Fused Map Cache: false
Extent:
XMin: 1706651.0354555612
YMin: -488561.6755303141
XMax: 1718252.776804065
YMax: -482279.05787487864
Spatial Reference: 102100
(3857)
LatestVCSWkid(0)
Initial Extent:
XMin: 1706651.0354555612
YMin: -488561.6755303141
XMax: 1718252.776804065
YMax: -482279.05787487864
Spatial Reference: 102100
(3857)
LatestVCSWkid(0)
Full Extent:
XMin: 1706651.0354555612
YMin: -488561.6755303141
XMax: 1718252.776804065
YMax: -482279.05787487864
Spatial Reference: 102100
(3857)
LatestVCSWkid(0)
Pixel Size X: 0.36194363725288126
Pixel Size Y: 0.36194363725287826
Band Count: 3
Pixel Type: U8
RasterFunction Infos: {"rasterFunctionInfos": [{
"name": "None",
"description": "",
"help": ""
}]}
Mensuration Capabilities: Basic
Inspection Capabilities:
Has Histograms: true
Has Colormap: false
Has Multi Dimensions : false
Rendering Rule:
Min Scale: 0
Max Scale: 0
Resampling: false
Copyright Text:
Service Data Type: esriImageServiceDataTypeRGB
Min Values: 0, 0, 0
Max Values: 255, 255, 255
Mean Values: 115.85046334446, 140.8211822245, 141.44511601741
Standard Deviation Values: 33.648326952051, 23.08343613724, 25.199808290958
Object ID Field:
Fields:
None
Default Mosaic Method: Center
Allowed Mosaic Methods:
SortField:
SortValue: null
Mosaic Operator: First
Default Compression Quality: 75
Default Resampling Method: Bilinear
Max Record Count: null
Max Image Height: 4100
Max Image Width: 15000
Max Download Image Count: null
Max Mosaic Image Count: null
Allow Raster Function: true
Allow Copy: true
Allow Analysis: true
Allow Compute TiePoints: false
Supports Statistics: false
Supports Advanced Queries: false
Use StandardizedQueries: true
Raster Type Infos:
Name: Raster Dataset
Description: Supports all ArcGIS Raster Datasets
Help:
Has Raster Attribute Table: false
Edit Fields Info: null
Ownership Based AccessControl For Rasters: null
Child Resources:
Info
Histograms
Statistics
Key Properties
Legend
Raster Function Infos
Supported Operations:
Export Image
Identify
Measure
Compute Histograms
Compute Statistics Histograms
Get Samples
Compute Class Statistics
Query Boundary
Compute Pixel Location
Compute Angles
Validate
Project