View In:
ArcGIS JavaScript
ArcGIS Online Map Viewer
ArcGIS Earth
Service Description: BADEA/O727_DRC_20July2021_WV2
Name: BADEA/O727_DRC_20July2021_WV2
Description:
Single Fused Map Cache: false
Extent:
XMin: 1706021.9208681877
YMin: -488562.0861504376
XMax: 1713564.3420408359
YMax: -482279.23607356095
Spatial Reference: 102100
(3857)
LatestVCSWkid(0)
Initial Extent:
XMin: 1706021.9208681877
YMin: -488562.0861504376
XMax: 1713564.3420408359
YMax: -482279.23607356095
Spatial Reference: 102100
(3857)
LatestVCSWkid(0)
Full Extent:
XMin: 1706021.9208681877
YMin: -488562.0861504376
XMax: 1713564.3420408359
YMax: -482279.23607356095
Spatial Reference: 102100
(3857)
LatestVCSWkid(0)
Pixel Size X: 0.4413353524077357
Pixel Size Y: 0.4413353524077437
Band Count: 3
Pixel Type: U8
RasterFunction Infos: {"rasterFunctionInfos": [{
"name": "None",
"description": "",
"help": ""
}]}
Mensuration Capabilities: Basic
Inspection Capabilities:
Has Histograms: true
Has Colormap: false
Has Multi Dimensions : false
Rendering Rule:
Min Scale: 0
Max Scale: 0
Resampling: false
Copyright Text:
Service Data Type: esriImageServiceDataTypeRGB
Min Values: 0, 0, 0
Max Values: 255, 255, 255
Mean Values: 89.775760563631, 92.077245537195, 91.237818329735
Standard Deviation Values: 36.368774501963, 28.555908670843, 28.756933649475
Object ID Field:
Fields:
None
Default Mosaic Method: Center
Allowed Mosaic Methods:
SortField:
SortValue: null
Mosaic Operator: First
Default Compression Quality: 75
Default Resampling Method: Bilinear
Max Record Count: null
Max Image Height: 4100
Max Image Width: 15000
Max Download Image Count: null
Max Mosaic Image Count: null
Allow Raster Function: true
Allow Copy: true
Allow Analysis: true
Allow Compute TiePoints: false
Supports Statistics: false
Supports Advanced Queries: false
Use StandardizedQueries: true
Raster Type Infos:
Name: Raster Dataset
Description: Supports all ArcGIS Raster Datasets
Help:
Has Raster Attribute Table: false
Edit Fields Info: null
Ownership Based AccessControl For Rasters: null
Child Resources:
Info
Histograms
Statistics
Key Properties
Legend
Raster Function Infos
Supported Operations:
Export Image
Identify
Measure
Compute Histograms
Compute Statistics Histograms
Get Samples
Compute Class Statistics
Query Boundary
Compute Pixel Location
Compute Angles
Validate
Project