View In:
ArcGIS JavaScript
ArcGIS Online Map Viewer
ArcGIS Earth
Service Description: BADEA/O672_Cameron_Dec21_WV02
Name: BADEA/O672_Cameron_Dec21_WV02
Description:
Single Fused Map Cache: false
Extent:
XMin: 9.272326500000379
YMin: 4.071635999998664
XMax: 9.297274500002041
YMax: 4.091350499999978
Spatial Reference: 4326
(4326)
LatestVCSWkid(0)
Initial Extent:
XMin: 9.272326500000379
YMin: 4.071635999998664
XMax: 9.297274500002041
YMax: 4.091350499999978
Spatial Reference: 4326
(4326)
LatestVCSWkid(0)
Full Extent:
XMin: 9.272326500000379
YMin: 4.071635999998664
XMax: 9.297274500002041
YMax: 4.091350499999978
Spatial Reference: 4326
(4326)
LatestVCSWkid(0)
Pixel Size X: 4.500000000299939E-6
Pixel Size Y: 4.500000000299862E-6
Band Count: 3
Pixel Type: U8
RasterFunction Infos: {"rasterFunctionInfos": [{
"name": "None",
"description": "",
"help": ""
}]}
Mensuration Capabilities: Basic
Inspection Capabilities:
Has Histograms: true
Has Colormap: false
Has Multi Dimensions : false
Rendering Rule:
Min Scale: 0
Max Scale: 0
Copyright Text:
Service Data Type: esriImageServiceDataTypeRGB
Min Values: 1, 1, 1
Max Values: 255, 255, 255
Mean Values: 94.54363840083424, 95.01553157524968, 90.75278010812136
Standard Deviation Values: 38.00593098968478, 36.40609610166572, 37.223176796438416
Object ID Field:
Fields:
None
Default Mosaic Method: Center
Allowed Mosaic Methods:
SortField:
SortValue: null
Mosaic Operator: First
Default Compression Quality: 75
Default Resampling Method: Bilinear
Max Record Count: null
Max Image Height: 4100
Max Image Width: 15000
Max Download Image Count: null
Max Mosaic Image Count: null
Allow Raster Function: true
Allow Copy: true
Allow Analysis: true
Allow Compute TiePoints: false
Supports Statistics: false
Supports Advanced Queries: false
Use StandardizedQueries: true
Raster Type Infos:
Name: Raster Dataset
Description: Supports all ArcGIS Raster Datasets
Help:
Has Raster Attribute Table: false
Edit Fields Info: null
Ownership Based AccessControl For Rasters: null
Child Resources:
Info
Histograms
Statistics
Key Properties
Legend
Raster Function Infos
Supported Operations:
Export Image
Identify
Measure
Compute Histograms
Compute Statistics Histograms
Get Samples
Compute Class Statistics
Query Boundary
Compute Pixel Location
Compute Angles
Validate
Project