View In:
ArcGIS JavaScript
ArcGIS Online Map Viewer
ArcGIS Earth
ArcMap
View Footprint In:
ArcGIS Online Map Viewer
Service Description: BADEA/O659_RepCong_Jan2022PL
Name: BADEA/O659_RepCong_Jan2022PL
Description:
Single Fused Map Cache: false
Extent:
XMin: 1311047.9089715108
YMin: -544242.7846769332
XMax: 1350183.6674480857
YMax: -505365.00117078493
Spatial Reference: 3395
(3395)
Initial Extent:
XMin: 1311047.9089715108
YMin: -544242.7846769332
XMax: 1350183.6674480857
YMax: -505365.00117078493
Spatial Reference: 3395
(3395)
Full Extent:
XMin: 1311047.9089715108
YMin: -544242.7846769332
XMax: 1350183.6674480857
YMax: -505365.00117078493
Spatial Reference: 3395
(3395)
Pixel Size X: 4.777314267160023
Pixel Size Y: 4.777314267160023
Band Count: 5
Pixel Type: U16
RasterFunction Infos: {"rasterFunctionInfos": [{
"name": "None",
"description": "",
"help": ""
}]}
Mensuration Capabilities: Basic
Has Histograms: true
Has Colormap: false
Has Multi Dimensions : false
Rendering Rule:
Min Scale: 0
Max Scale: 0
Copyright Text:
Service Data Type: esriImageServiceDataTypeGeneric
Min Values: 0, 0, 0, 0, 0
Max Values: 5651, 7261, 9570, 10000, 65535
Mean Values: 343.2495188437682, 599.1803755667614, 520.8786917044507, 2487.432734982802, 65057.50126502824
Standard Deviation Values: 154.30178608983127, 209.732727167058, 287.41896666116304, 1148.5567613427174, 5573.58718055019
Object ID Field:
Fields:
None
Default Mosaic Method: Center
Allowed Mosaic Methods:
SortField:
SortValue: null
Mosaic Operator: First
Default Compression Quality: 75
Default Resampling Method: Bilinear
Max Record Count: null
Max Image Height: 4100
Max Image Width: 15000
Max Download Image Count: null
Max Mosaic Image Count: null
Allow Raster Function: true
Allow Copy: true
Allow Analysis: true
Allow Compute TiePoints: false
Supports Statistics: false
Supports Advanced Queries: false
Use StandardizedQueries: true
Raster Type Infos:
Name: Raster Dataset
Description: Supports all ArcGIS Raster Datasets
Help:
Has Raster Attribute Table: false
Edit Fields Info: null
Ownership Based AccessControl For Rasters: null
Child Resources:
Info
Histograms
Statistics
Key Properties
Legend
Raster Function Infos
Supported Operations:
Export Image
Identify
Measure
Compute Histograms
Compute Statistics Histograms
Get Samples
Compute Class Statistics
Query Boundary
Compute Pixel Location
Compute Angles
Validate
Project