View In:
ArcGIS JavaScript
ArcGIS Online Map Viewer
ArcGIS Earth
Service Description: BADEA/O659_RepCong_Feb2022_WV03
Name: BADEA/O659_RepCong_Feb2022_WV03
Description:
Single Fused Map Cache: false
Extent:
XMin: 11.89072587563467
YMin: -4.771468197107456
XMax: 11.947727169092715
YMax: -4.725022441024393
Spatial Reference: 4326
(4326)
LatestVCSWkid(0)
Initial Extent:
XMin: 11.89072587563467
YMin: -4.771468197107456
XMax: 11.947727169092715
YMax: -4.725022441024393
Spatial Reference: 4326
(4326)
LatestVCSWkid(0)
Full Extent:
XMin: 11.89072587563467
YMin: -4.771468197107456
XMax: 11.947727169092715
YMax: -4.725022441024393
Spatial Reference: 4326
(4326)
LatestVCSWkid(0)
Pixel Size X: 3.4790828526638827E-6
Pixel Size Y: 3.479082852663904E-6
Band Count: 3
Pixel Type: U8
RasterFunction Infos: {"rasterFunctionInfos": [{
"name": "None",
"description": "",
"help": ""
}]}
Mensuration Capabilities: Basic
Inspection Capabilities:
Has Histograms: true
Has Colormap: false
Has Multi Dimensions : false
Rendering Rule:
Min Scale: 0
Max Scale: 0
Copyright Text:
Service Data Type: esriImageServiceDataTypeRGB
Min Values: 1, 1, 1
Max Values: 255, 255, 255
Mean Values: 120.98664324013927, 111.6008724095491, 106.49887962312734
Standard Deviation Values: 26.4517793273033, 26.134494585652483, 26.434310217207138
Object ID Field:
Fields:
None
Default Mosaic Method: Center
Allowed Mosaic Methods:
SortField:
SortValue: null
Mosaic Operator: First
Default Compression Quality: 75
Default Resampling Method: Bilinear
Max Record Count: null
Max Image Height: 4100
Max Image Width: 15000
Max Download Image Count: null
Max Mosaic Image Count: null
Allow Raster Function: true
Allow Copy: true
Allow Analysis: true
Allow Compute TiePoints: false
Supports Statistics: false
Supports Advanced Queries: false
Use StandardizedQueries: true
Raster Type Infos:
Name: Raster Dataset
Description: Supports all ArcGIS Raster Datasets
Help:
Has Raster Attribute Table: false
Edit Fields Info: null
Ownership Based AccessControl For Rasters: null
Child Resources:
Info
Histograms
Statistics
Key Properties
Legend
Raster Function Infos
Supported Operations:
Export Image
Identify
Measure
Compute Histograms
Compute Statistics Histograms
Get Samples
Compute Class Statistics
Query Boundary
Compute Pixel Location
Compute Angles
Validate
Project