View In:
ArcGIS JavaScript
ArcGIS Online Map Viewer
ArcGIS Earth
ArcMap
View Footprint In:
ArcGIS Online Map Viewer
Service Description: BADEA/O653_Tanzania_January2021_WV2
Name: BADEA/O653_Tanzania_January2021_WV2
Description:
Single Fused Map Cache: false
Extent:
XMin: 4168113.0375799
YMin: -428962.83548496035
XMax: 4184496.9765686872
YMax: -412511.1963411895
Spatial Reference: 102100
(3857)
LatestVCSWkid(0)
Initial Extent:
XMin: 4168113.0375799
YMin: -428962.83548496035
XMax: 4184496.9765686872
YMax: -412511.1963411895
Spatial Reference: 102100
(3857)
LatestVCSWkid(0)
Full Extent:
XMin: 4168113.0375799
YMin: -428962.83548496035
XMax: 4184496.9765686872
YMax: -412511.1963411895
Spatial Reference: 102100
(3857)
LatestVCSWkid(0)
Pixel Size X: 0.5014826295120175
Pixel Size Y: 0.5014826295120055
Band Count: 3
Pixel Type: U8
RasterFunction Infos: {"rasterFunctionInfos": [{
"name": "None",
"description": "",
"help": ""
}]}
Mensuration Capabilities: Basic
Has Histograms: true
Has Colormap: false
Has Multi Dimensions : false
Rendering Rule:
Min Scale: 0
Max Scale: 0
Copyright Text:
Service Data Type: esriImageServiceDataTypeRGB
Min Values: 0, 0, 0
Max Values: 254, 254, 254
Mean Values: 105.95563038663, 129.48080120313, 126.93935278508
Standard Deviation Values: 42.622738352116, 33.344043011751, 31.787774219802
Object ID Field:
Fields:
None
Default Mosaic Method: Center
Allowed Mosaic Methods:
SortField:
SortValue: null
Mosaic Operator: First
Default Compression Quality: 75
Default Resampling Method: Bilinear
Max Record Count: null
Max Image Height: 4100
Max Image Width: 15000
Max Download Image Count: null
Max Mosaic Image Count: null
Allow Raster Function: true
Allow Copy: true
Allow Analysis: true
Allow Compute TiePoints: false
Supports Statistics: false
Supports Advanced Queries: false
Use StandardizedQueries: true
Raster Type Infos:
Name: Raster Dataset
Description: Supports all ArcGIS Raster Datasets
Help:
Has Raster Attribute Table: false
Edit Fields Info: null
Ownership Based AccessControl For Rasters: null
Child Resources:
Info
Histograms
Statistics
Key Properties
Legend
Raster Function Infos
Supported Operations:
Export Image
Identify
Measure
Compute Histograms
Compute Statistics Histograms
Get Samples
Compute Class Statistics
Query Boundary
Compute Pixel Location
Compute Angles
Validate
Project