View In:
ArcGIS JavaScript
ArcGIS Online Map Viewer
ArcGIS Earth
ArcMap
View Footprint In:
ArcGIS Online Map Viewer
Service Description: BADEA/O653_Tanzania_August2020_WV2
Name: BADEA/O653_Tanzania_August2020_WV2
Description:
Single Fused Map Cache: false
Extent:
XMin: 4175985.4083184046
YMin: -430761.35241006984
XMax: 4183975.2154700663
YMax: -412511.4734208575
Spatial Reference: 102100
(3857)
LatestVCSWkid(0)
Initial Extent:
XMin: 4175985.4083184046
YMin: -430761.35241006984
XMax: 4183975.2154700663
YMax: -412511.4734208575
Spatial Reference: 102100
(3857)
LatestVCSWkid(0)
Full Extent:
XMin: 4175985.4083184046
YMin: -430761.35241006984
XMax: 4183975.2154700663
YMax: -412511.4734208575
Spatial Reference: 102100
(3857)
LatestVCSWkid(0)
Pixel Size X: 0.5014942977442707
Pixel Size Y: 0.5014942977442866
Band Count: 3
Pixel Type: U8
RasterFunction Infos: {"rasterFunctionInfos": [{
"name": "None",
"description": "",
"help": ""
}]}
Mensuration Capabilities: Basic
Has Histograms: true
Has Colormap: false
Has Multi Dimensions : false
Rendering Rule:
Min Scale: 0
Max Scale: 0
Copyright Text:
Service Data Type: esriImageServiceDataTypeRGB
Min Values: 0, 0, 0
Max Values: 254, 254, 253
Mean Values: 118.00924908167, 119.81065793349, 120.9056828802
Standard Deviation Values: 59.680197536064, 57.193960915055, 51.356726681816
Object ID Field:
Fields:
None
Default Mosaic Method: Center
Allowed Mosaic Methods:
SortField:
SortValue: null
Mosaic Operator: First
Default Compression Quality: 75
Default Resampling Method: Bilinear
Max Record Count: null
Max Image Height: 4100
Max Image Width: 15000
Max Download Image Count: null
Max Mosaic Image Count: null
Allow Raster Function: true
Allow Copy: true
Allow Analysis: true
Allow Compute TiePoints: false
Supports Statistics: false
Supports Advanced Queries: false
Use StandardizedQueries: true
Raster Type Infos:
Name: Raster Dataset
Description: Supports all ArcGIS Raster Datasets
Help:
Has Raster Attribute Table: false
Edit Fields Info: null
Ownership Based AccessControl For Rasters: null
Child Resources:
Info
Histograms
Statistics
Key Properties
Legend
Raster Function Infos
Supported Operations:
Export Image
Identify
Measure
Compute Histograms
Compute Statistics Histograms
Get Samples
Compute Class Statistics
Query Boundary
Compute Pixel Location
Compute Angles
Validate
Project