View In:
ArcGIS JavaScript
ArcGIS Online Map Viewer
ArcGIS Earth
Service Description: BADEA/O625_Tanzania_21September2022_GE01
Name: BADEA/O625_Tanzania_21September2022_GE01
Description:
Single Fused Map Cache: false
Extent:
XMin: 39.47970853245819
YMin: -6.42039823639392
XMax: 39.485971028491406
YMax: -6.415605201127643
Spatial Reference: 4326
(4326)
LatestVCSWkid(0)
Initial Extent:
XMin: 39.47970853245819
YMin: -6.42039823639392
XMax: 39.485971028491406
YMax: -6.415605201127643
Spatial Reference: 4326
(4326)
LatestVCSWkid(0)
Full Extent:
XMin: 39.47970853245819
YMin: -6.42039823639392
XMax: 39.485971028491406
YMax: -6.415605201127643
Spatial Reference: 4326
(4326)
LatestVCSWkid(0)
Pixel Size X: 4.321943432171032E-6
Pixel Size Y: 4.3219434321706755E-6
Band Count: 3
Pixel Type: U8
RasterFunction Infos: {"rasterFunctionInfos": [{
"name": "None",
"description": "",
"help": ""
}]}
Mensuration Capabilities: Basic
Inspection Capabilities:
Has Histograms: true
Has Colormap: false
Has Multi Dimensions : false
Rendering Rule:
Min Scale: 0
Max Scale: 0
Resampling: false
Copyright Text:
Service Data Type: esriImageServiceDataTypeRGB
Min Values: 1, 1, 1
Max Values: 255, 255, 255
Mean Values: 107.95478365416, 109.09912062733, 108.71629823373
Standard Deviation Values: 52.038126971771, 50.891462451787, 49.075383628679
Object ID Field:
Fields:
None
Default Mosaic Method: Center
Allowed Mosaic Methods:
SortField:
SortValue: null
Mosaic Operator: First
Default Compression Quality: 75
Default Resampling Method: Bilinear
Max Record Count: null
Max Image Height: 4100
Max Image Width: 15000
Max Download Image Count: null
Max Mosaic Image Count: null
Allow Raster Function: true
Allow Copy: true
Allow Analysis: true
Allow Compute TiePoints: false
Supports Statistics: false
Supports Advanced Queries: false
Use StandardizedQueries: true
Raster Type Infos:
Name: Raster Dataset
Description: Supports all ArcGIS Raster Datasets
Help:
Has Raster Attribute Table: false
Edit Fields Info: null
Ownership Based AccessControl For Rasters: null
Child Resources:
Info
Histograms
Statistics
Key Properties
Legend
Raster Function Infos
Supported Operations:
Export Image
Identify
Measure
Compute Histograms
Compute Statistics Histograms
Get Samples
Compute Class Statistics
Query Boundary
Compute Pixel Location
Compute Angles
Validate
Project