View In:
ArcGIS JavaScript
ArcGIS Online Map Viewer
ArcGIS Earth
Service Description: BADEA/O557_Tanzania_15October2022_WV02
Name: BADEA/O557_Tanzania_15October2022_WV02
Description:
Single Fused Map Cache: false
Extent:
XMin: 32.86612599901765
YMin: -2.4878801219652376
XMax: 33.00089285250198
YMax: -2.4063935470887974
Spatial Reference: 4326
(4326)
LatestVCSWkid(0)
Initial Extent:
XMin: 32.86612599901765
YMin: -2.4878801219652376
XMax: 33.00089285250198
YMax: -2.4063935470887974
Spatial Reference: 4326
(4326)
LatestVCSWkid(0)
Full Extent:
XMin: 32.86612599901765
YMin: -2.4878801219652376
XMax: 33.00089285250198
YMax: -2.4063935470887974
Spatial Reference: 4326
(4326)
LatestVCSWkid(0)
Pixel Size X: 3.095171297956624E-6
Pixel Size Y: 3.095171302329934E-6
Band Count: 3
Pixel Type: U8
RasterFunction Infos: {"rasterFunctionInfos": [{
"name": "None",
"description": "",
"help": ""
}]}
Mensuration Capabilities: Basic
Inspection Capabilities:
Has Histograms: true
Has Colormap: false
Has Multi Dimensions : false
Rendering Rule:
Min Scale: 0
Max Scale: 0
Copyright Text:
Service Data Type: esriImageServiceDataTypeRGB
Min Values: 0, 0, 0
Max Values: 255, 255, 255
Mean Values: 140.79466938381475, 134.05885833621446, 139.5092981381994
Standard Deviation Values: 56.93427426235938, 50.494167453316805, 54.03959774771079
Object ID Field:
Fields:
None
Default Mosaic Method: Center
Allowed Mosaic Methods:
SortField:
SortValue: null
Mosaic Operator: First
Default Compression Quality: 75
Default Resampling Method: Bilinear
Max Record Count: null
Max Image Height: 4100
Max Image Width: 15000
Max Download Image Count: null
Max Mosaic Image Count: null
Allow Raster Function: true
Allow Copy: true
Allow Analysis: true
Allow Compute TiePoints: false
Supports Statistics: false
Supports Advanced Queries: false
Use StandardizedQueries: true
Raster Type Infos:
Name: Raster Dataset
Description: Supports all ArcGIS Raster Datasets
Help:
Has Raster Attribute Table: false
Edit Fields Info: null
Ownership Based AccessControl For Rasters: null
Child Resources:
Info
Histograms
Statistics
Key Properties
Legend
Raster Function Infos
Supported Operations:
Export Image
Identify
Measure
Compute Histograms
Compute Statistics Histograms
Get Samples
Compute Class Statistics
Query Boundary
Compute Pixel Location
Compute Angles
Validate
Project