{
 "currentVersion": 11.3,
 "serviceDescription": "TC20230227VUT/PL_20230307_FutunaIsland_tif",
 "name": "TC20230227VUT/PL_20230307_FutunaIsland_tif",
 "description": "",
 "extent": {
  "xmin": 415106,
  "ymin": 7838074.500000001,
  "xmax": 420338.5,
  "ymax": 7843265.500000001,
  "spatialReference": {
   "wkid": 32759,
   "latestWkid": 32759
  }
 },
 "initialExtent": {
  "xmin": 415106,
  "ymin": 7838074.500000001,
  "xmax": 420338.5,
  "ymax": 7843265.500000001,
  "spatialReference": {
   "wkid": 32759,
   "latestWkid": 32759
  }
 },
 "fullExtent": {
  "xmin": 415106,
  "ymin": 7838074.500000001,
  "xmax": 420338.5,
  "ymax": 7843265.500000001,
  "spatialReference": {
   "wkid": 32759,
   "latestWkid": 32759
  }
 },
 "sortableFields": "",
 "bandCount": 4,
 "pixelType": "U16",
 "minValues": [
  26,
  38,
  52,
  19
 ],
 "maxValues": [
  4064,
  4095,
  4095,
  4095
 ],
 "meanValues": [
  353.25142499983,
  499.42772693817,
  643.37136615833,
  647.02949677197
 ],
 "stdvValues": [
  351.43651549874,
  360.64195987162,
  345.69537592333,
  672.57043430966
 ],
 "hasMultidimensions": false,
 "pixelSizeX": 0.5,
 "pixelSizeY": 0.5,
 "meanPixelSize": 0.5,
 "datasetFormat": "TIFF",
 "uncompressedSize": 869181040,
 "blockWidth": 128,
 "blockHeight": 128,
 "compressionType": "LZW",
 "bandNames": [
  "Band_1",
  "Band_2",
  "Band_3",
  "Band_4"
 ],
 "allowCopy": true,
 "allowAnalysis": true,
 "itemAccess": false,
 "inspectionCapabilities": "",
 "noDataValue": 65535,
 "noDataValues": [
  65535,
  65535,
  65535,
  65535
 ],
 "minPixelSize": 0,
 "maxPixelSize": 0,
 "copyrightText": "Copyright: CNES (2023), distribution Airbus D&S - Source: Airbus Defense and Space",
 "serviceDataType": "esriImageServiceDataTypeGeneric",
 "serviceSourceType": "esriImageServiceSourceTypeDataset",
 "objectIdField": "",
 "fields": [],
 "capabilities": "Mensuration,Image,Metadata",
 "defaultMosaicMethod": "Center",
 "allowedMosaicMethods": "",
 "sortField": "",
 "sortValue": null,
 "sortAscending": true,
 "mosaicOperator": "First",
 "defaultCompressionQuality": 75,
 "defaultResamplingMethod": "Bilinear",
 "maxImageHeight": 4100,
 "maxImageWidth": 15000,
 "allowRasterFunction": true,
 "rasterFunctionInfos": [
  {
   "name": "None",
   "description": "",
   "help": ""
  }
 ],
 "rasterTypeInfos": [
  {
   "name": "Raster Dataset",
   "description": "Supports all ArcGIS Raster Datasets",
   "help": ""
  }
 ],
 "mensurationCapabilities": "Basic",
 "hasHistograms": true,
 "hasColormap": false,
 "hasRasterAttributeTable": false,
 "minScale": 0,
 "maxScale": 0,
 "exportTilesAllowed": false,
 "supportsStatistics": false,
 "supportsAdvancedQueries": false,
 "editFieldsInfo": null,
 "ownershipBasedAccessControlForRasters": null,
 "allowComputeTiePoints": false,
 "useStandardizedQueries": true,
 "advancedQueryCapabilities": {
  "useStandardizedQueries": true,
  "supportsStatistics": false,
  "supportsOrderBy": false,
  "supportsDistinct": false,
  "supportsPagination": false
 },
 "spatialReference": {
  "wkid": 32759,
  "latestWkid": 32759
 },
 "resampling": false
}
