{
 "currentVersion": 11.3,
 "serviceDescription": "TC20230227VUT/PL_20230304_AniwaIsland_tif",
 "name": "TC20230227VUT/PL_20230304_AniwaIsland_tif",
 "description": "",
 "extent": {
  "xmin": 982269,
  "ymin": 7862060,
  "xmax": 985439,
  "ymax": 7866292,
  "spatialReference": {
   "wkid": 32758,
   "latestWkid": 32758
  }
 },
 "initialExtent": {
  "xmin": 982269,
  "ymin": 7862060,
  "xmax": 985439,
  "ymax": 7866292,
  "spatialReference": {
   "wkid": 32758,
   "latestWkid": 32758
  }
 },
 "fullExtent": {
  "xmin": 982269,
  "ymin": 7862060,
  "xmax": 985439,
  "ymax": 7866292,
  "spatialReference": {
   "wkid": 32758,
   "latestWkid": 32758
  }
 },
 "sortableFields": "",
 "bandCount": 4,
 "pixelType": "U16",
 "minValues": [
  1,
  1,
  1,
  1
 ],
 "maxValues": [
  4095,
  4095,
  4095,
  4095
 ],
 "meanValues": [
  574.16245315184,
  671.77263315808,
  756.67345928296,
  934.19303372946
 ],
 "stdvValues": [
  441.77635868906,
  461.94916285381,
  456.90310045104,
  317.00559267381
 ],
 "hasMultidimensions": false,
 "pixelSizeX": 0.5,
 "pixelSizeY": 0.5,
 "meanPixelSize": 0.5,
 "datasetFormat": "TIFF",
 "uncompressedSize": 429294080,
 "blockWidth": 128,
 "blockHeight": 128,
 "compressionType": "LZW",
 "bandNames": [
  "Band_1",
  "Band_2",
  "Band_3",
  "Band_4"
 ],
 "allowCopy": true,
 "allowAnalysis": true,
 "itemAccess": false,
 "inspectionCapabilities": "",
 "noDataValue": 65535,
 "noDataValues": [
  65535,
  65535,
  65535,
  65535
 ],
 "minPixelSize": 0,
 "maxPixelSize": 0,
 "copyrightText": "Copyright: CNES (2023), distribution Airbus D&S - Source: Airbus Defense and Space",
 "serviceDataType": "esriImageServiceDataTypeGeneric",
 "serviceSourceType": "esriImageServiceSourceTypeDataset",
 "objectIdField": "",
 "fields": [],
 "capabilities": "Mensuration,Image,Metadata",
 "defaultMosaicMethod": "Center",
 "allowedMosaicMethods": "",
 "sortField": "",
 "sortValue": null,
 "sortAscending": true,
 "mosaicOperator": "First",
 "defaultCompressionQuality": 75,
 "defaultResamplingMethod": "Bilinear",
 "maxImageHeight": 4100,
 "maxImageWidth": 15000,
 "allowRasterFunction": true,
 "rasterFunctionInfos": [
  {
   "name": "None",
   "description": "",
   "help": ""
  }
 ],
 "rasterTypeInfos": [
  {
   "name": "Raster Dataset",
   "description": "Supports all ArcGIS Raster Datasets",
   "help": ""
  }
 ],
 "mensurationCapabilities": "Basic",
 "hasHistograms": true,
 "hasColormap": false,
 "hasRasterAttributeTable": false,
 "minScale": 0,
 "maxScale": 0,
 "exportTilesAllowed": false,
 "supportsStatistics": false,
 "supportsAdvancedQueries": false,
 "editFieldsInfo": null,
 "ownershipBasedAccessControlForRasters": null,
 "allowComputeTiePoints": false,
 "useStandardizedQueries": true,
 "advancedQueryCapabilities": {
  "useStandardizedQueries": true,
  "supportsStatistics": false,
  "supportsOrderBy": false,
  "supportsDistinct": false,
  "supportsPagination": false
 },
 "spatialReference": {
  "wkid": 32758,
  "latestWkid": 32758
 },
 "resampling": false
}
