{
 "currentVersion": 10.91,
 "serviceDescription": "BADEA/O786B_Mozambique_20210707_NV",
 "name": "BADEA/O786B_Mozambique_20210707_NV",
 "description": "",
 "extent": {
  "xmin": 671172.5,
  "ymin": 7264459.5,
  "xmax": 674830,
  "ymax": 7267078,
  "spatialReference": {
   "wkid": 32736,
   "latestWkid": 32736
  }
 },
 "initialExtent": {
  "xmin": 671172.5,
  "ymin": 7264459.5,
  "xmax": 674830,
  "ymax": 7267078,
  "spatialReference": {
   "wkid": 32736,
   "latestWkid": 32736
  }
 },
 "fullExtent": {
  "xmin": 671172.5,
  "ymin": 7264459.5,
  "xmax": 674830,
  "ymax": 7267078,
  "spatialReference": {
   "wkid": 32736,
   "latestWkid": 32736
  }
 },
 "hasMultidimensions": false,
 "pixelSizeX": 0.5,
 "pixelSizeY": 0.5,
 "datasetFormat": "TIFF",
 "uncompressedSize": 114925965,
 "blockWidth": 7315,
 "blockHeight": 143,
 "compressionType": "None",
 "bandNames": [
  "Band_1",
  "Band_2",
  "Band_3"
 ],
 "allowCopy": true,
 "allowAnalysis": true,
 "bandCount": 3,
 "pixelType": "U8",
 "minPixelSize": 0,
 "maxPixelSize": 0,
 "copyrightText": "",
 "serviceDataType": "esriImageServiceDataTypeRGB",
 "serviceSourceType": "esriImageServiceSourceTypeDataset",
 "minValues": [],
 "maxValues": [],
 "meanValues": [],
 "stdvValues": [],
 "objectIdField": "",
 "fields": [],
 "capabilities": "Mensuration,Image,Metadata",
 "defaultMosaicMethod": "Center",
 "allowedMosaicMethods": "",
 "sortField": "",
 "sortValue": null,
 "sortAscending": true,
 "mosaicOperator": "First",
 "defaultCompressionQuality": 75,
 "defaultResamplingMethod": "Bilinear",
 "maxImageHeight": 4100,
 "maxImageWidth": 15000,
 "allowRasterFunction": true,
 "rasterFunctionInfos": [
  {
   "name": "None",
   "description": "",
   "help": ""
  }
 ],
 "rasterTypeInfos": [
  {
   "name": "Raster Dataset",
   "description": "Supports all ArcGIS Raster Datasets",
   "help": ""
  }
 ],
 "mensurationCapabilities": "Basic",
 "hasHistograms": false,
 "hasColormap": false,
 "hasRasterAttributeTable": false,
 "minScale": 0,
 "maxScale": 0,
 "exportTilesAllowed": false,
 "supportsStatistics": false,
 "supportsAdvancedQueries": false,
 "editFieldsInfo": null,
 "ownershipBasedAccessControlForRasters": null,
 "allowComputeTiePoints": false,
 "useStandardizedQueries": true,
 "advancedQueryCapabilities": {
  "useStandardizedQueries": true,
  "supportsStatistics": false,
  "supportsOrderBy": false,
  "supportsDistinct": false,
  "supportsPagination": false
 },
 "spatialReference": {
  "wkid": 32736,
  "latestWkid": 32736
 }
}
